BEGIN:VCALENDAR
VERSION:2.0
PRODID:-//Creative Thought Center - ECPv6.15.20//NONSGML v1.0//EN
CALSCALE:GREGORIAN
METHOD:PUBLISH
X-ORIGINAL-URL:https://creativethoughtcenter.org
X-WR-CALDESC:Events for Creative Thought Center
REFRESH-INTERVAL;VALUE=DURATION:PT1H
X-Robots-Tag:noindex
X-PUBLISHED-TTL:PT1H
BEGIN:VTIMEZONE
TZID:America/New_York
BEGIN:DAYLIGHT
TZOFFSETFROM:-0500
TZOFFSETTO:-0400
TZNAME:EDT
DTSTART:20240310T070000
END:DAYLIGHT
BEGIN:STANDARD
TZOFFSETFROM:-0400
TZOFFSETTO:-0500
TZNAME:EST
DTSTART:20241103T060000
END:STANDARD
BEGIN:DAYLIGHT
TZOFFSETFROM:-0500
TZOFFSETTO:-0400
TZNAME:EDT
DTSTART:20250309T070000
END:DAYLIGHT
BEGIN:STANDARD
TZOFFSETFROM:-0400
TZOFFSETTO:-0500
TZNAME:EST
DTSTART:20251102T060000
END:STANDARD
BEGIN:DAYLIGHT
TZOFFSETFROM:-0500
TZOFFSETTO:-0400
TZNAME:EDT
DTSTART:20260308T070000
END:DAYLIGHT
BEGIN:STANDARD
TZOFFSETFROM:-0400
TZOFFSETTO:-0500
TZNAME:EST
DTSTART:20261101T060000
END:STANDARD
END:VTIMEZONE
BEGIN:VEVENT
DTSTART;TZID=America/New_York:20250601T103000
DTEND;TZID=America/New_York:20250601T120000
DTSTAMP:20260421T182101
CREATED:20250401T155116Z
LAST-MODIFIED:20250505T204204Z
UID:22238-1748773800-1748779200@creativethoughtcenter.org
SUMMARY:Sunday Message - Teresa Breakey "Childlike or Childish?"
DESCRIPTION:Spiritual Message: Teresa Breakey “Childlike or Childish?”\nThere are so many wonderful blessings reserved for those who have and maintain their childlikeness.  Jesus said\, “Unless you become as a little child\, you shall not enter the kingdom of heaven.”  There’s something vitally important to our spiritual growth and development about being childlike.  Teresa will dig into some characteristics of childlikeness and will discuss how these characteristics can enhance our quality of life. \nTechnical: Sharon Otruk…\nTrustee: Sharon Otruk…\nGreeter: Janet Moebius..\n10:30 am Meditation: Kelly Williams …\n10:45 am Fellowship with coffee & tea\n11:00 am Practitioner: Kelly Williams...\nAffirmative Prayer Testimonial: Patricia Outland\n12:00-12:30 pm: Ananda Transfer\nTeresa had her “awakening” in her senior year in high school in 1972\, and has been pursuing her spiritual path ever since.  In the decades since her eye opening\, cathartic\, life changing experience\, she has been active as a spiritual teacher\, small group facilitator\, sacred dancer\, worship leader\, and author/presenter of workshops on topics such as communication skills\, conflict resolution and enhancement of personal relationships. teresabreakey@hotmail.com; 828-400-8695. \n  \n 
URL:https://creativethoughtcenter.org/calendar/sunday-message-teresa-breakey-2/
LOCATION:Creative Thought Center\, 449-D Pigeon Street\, Waynesville\, Haywood\, 28786\, United States
CATEGORIES:Sunday Service
END:VEVENT
BEGIN:VEVENT
DTSTART;TZID=America/New_York:20250608T103000
DTEND;TZID=America/New_York:20250608T120000
DTSTAMP:20260421T182101
CREATED:20250401T155748Z
LAST-MODIFIED:20250513T153319Z
UID:22239-1749378600-1749384000@creativethoughtcenter.org
SUMMARY:Sunday Message - Kimi Webster "Are You Living In Joy?"
DESCRIPTION:Spiritual Message: Kimi Webster “Are You Living In Joy?”\nSo many people on earth right now are living in a state of suffering and don’t even realize it. Why is happiness so temporary? Let’s look at what the difference is between happiness and joy. How does causeless joy impact our consciousness and how your internal experience impacts all of mankind. Why is this little thing called ‘joy’ the key to overcoming the challenges the world is facing right now. \nTechnical: Justin Elledge…\nTrustee: Kim Walzer…\nGreeter: Sherry Anderson..\n10:30 am Meditation: Kim May…\n10:45 am Fellowship with coffee & tea\n11:00 am Practitioner: Kim May...\nTao of Wow: video\n12:00-12:30 pm: Fellowship following service in kitchen\n  \nKimi moved to Waynesville in 1996 and has been an integral member of our community since 2010. In addition to being the Office Manager\, Kimi is a regular Sunday speaker and a Blessing Giver. \n 
URL:https://creativethoughtcenter.org/calendar/sunday-message-kimi-webster-3/
LOCATION:Creative Thought Center\, 449-D Pigeon Street\, Waynesville\, Haywood\, 28786\, United States
CATEGORIES:Sunday Service
END:VEVENT
BEGIN:VEVENT
DTSTART;TZID=America/New_York:20250613T103000
DTEND;TZID=America/New_York:20250613T123000
DTSTAMP:20260421T182101
CREATED:20250513T182034Z
LAST-MODIFIED:20250513T182034Z
UID:22438-1749810600-1749817800@creativethoughtcenter.org
SUMMARY:Watercolor Class - Joan Doyle  10:30 - 12:30pm
DESCRIPTION:This is a 2 hour class in watercolor.\nWatercolor is easy and fun!  Learn techniques and tips to make your art pop. \nJoan will provide a painting in keeping with the season and then lead the class in creating a masterpiece! \n$40   Payable in advance on Joan’s website: the artistryoflife.com.   Limit 10 people per class.  All supplies provided.  \nFor more info\, you can reach out to Joan at 818-957-6231. \n Do NOT call CTC to register. This is only through Joan.\n\nJoan Doyle was born in Ireland and began her working life as a Graphic Artist. In 1994 she moved to California to work for Walt Disney Feature Animation. She found her Spiritual Community at North Hollywood Church of Religious Science and became a Practitioner in 2005. After 20 years in the animation industry\, she now paints portraits of homes and blends her two passions in her Spiritual Art. See images on her website at www.theArtistryofLife.com
URL:https://creativethoughtcenter.org/calendar/watercolor-class-joan-doyle-1030-1230pm/
LOCATION:Creative Thought Center\, 449-D Pigeon Street\, Waynesville\, Haywood\, 28786\, United States
CATEGORIES:Workshop
END:VEVENT
BEGIN:VEVENT
DTSTART;TZID=America/New_York:20250622T103000
DTEND;TZID=America/New_York:20250622T120000
DTSTAMP:20260421T182101
CREATED:20250401T160032Z
LAST-MODIFIED:20250602T190046Z
UID:22240-1750588200-1750593600@creativethoughtcenter.org
SUMMARY:Sunday Message - Randy Outland "Universal Law\, Positive Law\, Karmic Law"
DESCRIPTION:Spiritual Message: Randy Outland  “Universal Law\, Positive Law\, Karmic Law”\nHow have the laws mentioned above been delineated over time? Do they stand separately or do they share some commonality? Have they come to be a part of our understanding as they relate to our own experiences as physical and spiritual beings on planet Earth? Please join Randy as we explore possible responses to these questions.\n\nTrustee:  Donella Davidson…\nGreeter: Donella Davidson…\nTechnical: Sharon Otruk…\n10:30 am Meditation: Randy Outland on PP…\n10:45 am Fellowship\, coffee or tea…\n11:00 am Practitioner: Patricia Outland…\nTao of Wow:  open mic\n  \n  \nRandy Outland brings his life experiences as an opera singer\, voice teacher\, former electronics technician on a nuclear submarine and son of a Baptist minister to his metaphysical studies and his spiritual pursuits. Those experiences have enabled observations and interactions with many different cultures and spiritual traditions. One auspicious commonality among all living organisms on this planet is breath.
URL:https://creativethoughtcenter.org/calendar/sunday-message-randy-outland-2/
LOCATION:Creative Thought Center\, 449D Pigeon St\, Waynesville\, NC\, 28786\, United States
CATEGORIES:Sunday Service
END:VEVENT
BEGIN:VEVENT
DTSTART;TZID=America/New_York:20250629T103000
DTEND;TZID=America/New_York:20250629T120000
DTSTAMP:20260421T182101
CREATED:20250401T160257Z
LAST-MODIFIED:20250512T192122Z
UID:22241-1751193000-1751198400@creativethoughtcenter.org
SUMMARY:Sunday Message - Donna Corso - "The Gospel Truth"
DESCRIPTION:Spiritual Message: Donna Corso – “The Gospel Truth”\nWho were the Essenes? What did they believe? How did they live?  Donna will describe the Essene community as it existed 2000 years ago.  She will also compare the “original” Gospel which contained the actual teachings of Jesus with the four Gospels in the New Testament compiled by Roman Emperor Constantine . \nTrustee: Kris VanWynen…\nGreeter: Mary Marden…\nTechnical: Randy Outland…\n10:30 am : Meditation: Teresa Breakey…\nPractitioner: Teresa Breakey...\nAffirmative Prayer Testimonial: Hal Breakey\n12:00-12:30 pm: Fellowship following Service \nDonna is an interfaith minister\, public speaker\, Reiki master\, hypnotherapist\, author and a Dream Builder life coach.  She has also been personal assistant to New York Times best-selling author Neale Donald Walsch for 16 years.  For more information about Donna and her work\, please visit:  www.donnacorso.com. \n 
URL:https://creativethoughtcenter.org/calendar/sunday-message-donna-corso-2/
LOCATION:Creative Thought Center\, 449-D Pigeon Street\, Waynesville\, Haywood\, 28786\, United States
CATEGORIES:Sunday Service
END:VEVENT
END:VCALENDAR