BEGIN:VCALENDAR
VERSION:2.0
PRODID:-//Creative Thought Center - ECPv6.15.20//NONSGML v1.0//EN
CALSCALE:GREGORIAN
METHOD:PUBLISH
X-ORIGINAL-URL:https://creativethoughtcenter.org
X-WR-CALDESC:Events for Creative Thought Center
REFRESH-INTERVAL;VALUE=DURATION:PT1H
X-Robots-Tag:noindex
X-PUBLISHED-TTL:PT1H
BEGIN:VTIMEZONE
TZID:America/New_York
BEGIN:DAYLIGHT
TZOFFSETFROM:-0500
TZOFFSETTO:-0400
TZNAME:EDT
DTSTART:20250309T070000
END:DAYLIGHT
BEGIN:STANDARD
TZOFFSETFROM:-0400
TZOFFSETTO:-0500
TZNAME:EST
DTSTART:20251102T060000
END:STANDARD
BEGIN:DAYLIGHT
TZOFFSETFROM:-0500
TZOFFSETTO:-0400
TZNAME:EDT
DTSTART:20260308T070000
END:DAYLIGHT
BEGIN:STANDARD
TZOFFSETFROM:-0400
TZOFFSETTO:-0500
TZNAME:EST
DTSTART:20261101T060000
END:STANDARD
BEGIN:DAYLIGHT
TZOFFSETFROM:-0500
TZOFFSETTO:-0400
TZNAME:EDT
DTSTART:20270314T070000
END:DAYLIGHT
BEGIN:STANDARD
TZOFFSETFROM:-0400
TZOFFSETTO:-0500
TZNAME:EST
DTSTART:20271107T060000
END:STANDARD
END:VTIMEZONE
BEGIN:VEVENT
DTSTART;TZID=America/New_York:20261122T130000
DTEND;TZID=America/New_York:20261122T140000
DTSTAMP:20260423T163018
CREATED:20260204T205413Z
LAST-MODIFIED:20260223T203218Z
UID:23474-1795352400-1795356000@creativethoughtcenter.org
SUMMARY:Peace Pole Meditation -4th Sunday 1 - 2pm
DESCRIPTION:At CTC\, starting Feb 15. \nPeace poles are now the most recognized monument dedicated to peace on earth.\nThey represent the highest aspirations of peace and goodwill inherent in the human heart transcending race\, religion and creed.\nPeace Poles serve as vehicles to carry the message\, May Peace Prevail On Earth\, out to every corner on earth.\nThey are planted to uplift\, empower and elevate the human consciousness to embrace the oneness of our global family. \nAll Donations Appreciated. \nFor more information\, contact Julie Dobson  786-246-3836
URL:https://creativethoughtcenter.org/calendar/peace-pole-meditation-3rd-sunday-1-2pm-7/
LOCATION:Creative Thought Center\, 449-D Pigeon Street\, Waynesville\, Haywood\, 28786\, United States
CATEGORIES:Meditation
END:VEVENT
BEGIN:VEVENT
DTSTART;TZID=America/New_York:20261212T160000
DTEND;TZID=America/New_York:20261212T173000
DTSTAMP:20260423T163018
CREATED:20260204T204506Z
LAST-MODIFIED:20260204T204506Z
UID:23464-1797091200-1797096600@creativethoughtcenter.org
SUMMARY:Dances of Universal Peace - Saturday 4-5:30pm
DESCRIPTION:The Dances of Universal Peace are simple\, meditative\, joyous\, multi-cultural circle dances that use sacred phrases\, chants\, music\, and movements to touch the spiritual essence within ourselves and recognize it in others. A transformative spiritual practice\, the Dances are rooted in the celebration of all the world’s wisdom traditions to inspire harmony and peace. All are welcomed into the circle to hold hands in an embodied prayer of Unity. \nFor more information\, call Moksha 919-384-5406
URL:https://creativethoughtcenter.org/calendar/dances-of-universal-peace-saturday-4-530pm-4/
LOCATION:Creative Thought Center\, 449-D Pigeon Street\, Waynesville\, Haywood\, 28786\, United States
CATEGORIES:Workshop
END:VEVENT
BEGIN:VEVENT
DTSTART;TZID=America/New_York:20261221T130000
DTEND;TZID=America/New_York:20261221T140000
DTSTAMP:20260423T163018
CREATED:20260209T203600Z
LAST-MODIFIED:20260209T203600Z
UID:23501-1797858000-1797861600@creativethoughtcenter.org
SUMMARY:Winter Solstice Drum Circle - Donna Corso  Monday Dec 21st\, 1:00 - 2:00pm
DESCRIPTION:Join Donna Corso as we drum our way into our inner winter cave on this shortest day of the year. We will begin by honoring the six directions followed by a drum circle. Please bring your drums\, rattles\, tambourines\, didgeridoos\, flutes\, or any kind of percussion/musical instruments. (If you have extra instruments you are willing to share with those who don’t have them\, please bring them) \nReady to try it? All are welcome to our quarterly Drum Circle at the Creative Thought Center (449 Pigeon St. Waynesville) every Equinox and Solstice. Bring your drum\, rattle\, or percussion instrument.  No drum? Come anyway and feel the beat! \nDonations are appreciated.  For information call Donna Corso 828-246-0279.
URL:https://creativethoughtcenter.org/calendar/winter-solstice-drum-circle-donna-corso-monday-dec-21st-100-200pm/
LOCATION:Creative Thought Center\, 449-D Pigeon Street\, Waynesville\, Haywood\, 28786\, United States
CATEGORIES:Special Event
ORGANIZER;CN="Donna Corso":MAILTO:walschoffice@aol.com
END:VEVENT
END:VCALENDAR