BEGIN:VCALENDAR
VERSION:2.0
PRODID:-//Creative Thought Center - ECPv6.15.20//NONSGML v1.0//EN
CALSCALE:GREGORIAN
METHOD:PUBLISH
X-ORIGINAL-URL:https://creativethoughtcenter.org
X-WR-CALDESC:Events for Creative Thought Center
REFRESH-INTERVAL;VALUE=DURATION:PT1H
X-Robots-Tag:noindex
X-PUBLISHED-TTL:PT1H
BEGIN:VTIMEZONE
TZID:America/New_York
BEGIN:DAYLIGHT
TZOFFSETFROM:-0500
TZOFFSETTO:-0400
TZNAME:EDT
DTSTART:20250309T070000
END:DAYLIGHT
BEGIN:STANDARD
TZOFFSETFROM:-0400
TZOFFSETTO:-0500
TZNAME:EST
DTSTART:20251102T060000
END:STANDARD
BEGIN:DAYLIGHT
TZOFFSETFROM:-0500
TZOFFSETTO:-0400
TZNAME:EDT
DTSTART:20260308T070000
END:DAYLIGHT
BEGIN:STANDARD
TZOFFSETFROM:-0400
TZOFFSETTO:-0500
TZNAME:EST
DTSTART:20261101T060000
END:STANDARD
BEGIN:DAYLIGHT
TZOFFSETFROM:-0500
TZOFFSETTO:-0400
TZNAME:EDT
DTSTART:20270314T070000
END:DAYLIGHT
BEGIN:STANDARD
TZOFFSETFROM:-0400
TZOFFSETTO:-0500
TZNAME:EST
DTSTART:20271107T060000
END:STANDARD
END:VTIMEZONE
BEGIN:VEVENT
DTSTART;TZID=America/New_York:20260702T140000
DTEND;TZID=America/New_York:20260702T153000
DTSTAMP:20260423T101233
CREATED:20260323T180528Z
LAST-MODIFIED:20260323T180528Z
UID:23740-1783000800-1783006200@creativethoughtcenter.org
SUMMARY:A Course In Miracles  2:00 pm - 3:30 pm
DESCRIPTION:“A Course in Miracles is a modern-day program for healing the Mind\, removing all judgment\, learning to trust the Higher Self/Holy Spirit/Intuition\, and coming to consistent Peace of Mind.”\n–David Hoffmeister \nA Course in Miracles (ACIM) is a self-study program with a unique approach\, designed to bring a consistent state of happiness and peace to the student through the application of its principles. Its uncompromising approach is very effective for those looking to heal abandonment\, victimhood\, and any other seeming lifelong issues. \nContact Stan Jones 828-329-1641
URL:https://creativethoughtcenter.org/calendar/a-course-in-miracles-200-pm-330-pm-50/
LOCATION:Creative Thought Center\, 449-D Pigeon Street\, Waynesville\, Haywood\, 28786\, United States
CATEGORIES:Classes
ORGANIZER;CN="Stan Jones":MAILTO:waynesvillectc@gmail.com
END:VEVENT
BEGIN:VEVENT
DTSTART;TZID=America/New_York:20260719T103000
DTEND;TZID=America/New_York:20260719T120000
DTSTAMP:20260423T101233
CREATED:20260421T170532Z
LAST-MODIFIED:20260421T170532Z
UID:23856-1784457000-1784462400@creativethoughtcenter.org
SUMMARY:Sunday Message - Rev. Mary Clayton-McGlauflin "In Memory of Her...and of Sacred Union"
DESCRIPTION:Spiritual Message: Rev. Mary Clayton-McGlauflin “\nJuly 22 is the Feast Day of Mary Magdalene. On the Sunday prior to that day\, we will explore who she really was\, what she taught\, what she was misrepresented & erased for centuries\, and why her memory and teachings seem to be rising so powerfully at this time. And in the process of exploring Sacred Union\, we are invited to remember who we truly are and what came to share in this life. \nA follow-up experiencial program\, Embodying Sacred Union will be held at 2:30 here. \nTrustee: Sharon Otruk…\nGreeter: Janet Moebius…\nTechnical: Sharon Otruk…\n10:30 am : Meditation: Kimi Webster…\nPractitioner: Kimi Webster...\nAffirmative Prayer Testimonial: Patricia Outland\n \n12:00-12:30 pm: Fellowship following service\nRev. Mary Clayton-McGlauflin is an ordained Interfaith Peace Minister with a focus on Ecospirituality. She is also a Reiki Master/Teacher\, certified in the Usui\, Holy Fire®\, Karuna®\, and Mary Magdelene Reiki traditions. In the Celtic spiritual tradition of Anam Cara (Soul Friend)\, she provides compassionate spiritual companionship and rituals for the sacred passages of life\, and through her Heart Song Reiki practice\, she offers a lullaby for the Soul by combining gentle\, affirming chants with Reiki to amplify the healing energy and provide a soft\, safe place to land amidst the chaos of life. \n 
URL:https://creativethoughtcenter.org/calendar/sunday-message-rev-mary-clayton-mcglauflin-in-memory-of-her-and-of-sacred-union/
LOCATION:Creative Thought Center\, 449-D Pigeon Street\, Waynesville\, Haywood\, 28786\, United States
CATEGORIES:Sunday Service
ORGANIZER;CN="Creative Thought Center":MAILTO:info@creativethoughtcenter.org
END:VEVENT
BEGIN:VEVENT
DTSTART;TZID=America/New_York:20260726T130000
DTEND;TZID=America/New_York:20260726T140000
DTSTAMP:20260423T101233
CREATED:20260204T205023Z
LAST-MODIFIED:20260223T203424Z
UID:23457-1785070800-1785074400@creativethoughtcenter.org
SUMMARY:Peace Pole Meditation -4th Sunday 1 - 2pm
DESCRIPTION:At CTC\, starting Feb 15. \nPeace poles are now the most recognized monument dedicated to peace on earth.\nThey represent the highest aspirations of peace and goodwill inherent in the human heart transcending race\, religion and creed.\nPeace Poles serve as vehicles to carry the message\, May Peace Prevail On Earth\, out to every corner on earth.\nThey are planted to uplift\, empower and elevate the human consciousness to embrace the oneness of our global family. \nAll Donations Appreciated. \nFor more information\, contact Julie Dobson  786-246-3836
URL:https://creativethoughtcenter.org/calendar/peace-pole-meditation-3rd-sunday-1-2pm-3/
LOCATION:Creative Thought Center\, 449-D Pigeon Street\, Waynesville\, Haywood\, 28786\, United States
CATEGORIES:Meditation
END:VEVENT
BEGIN:VEVENT
DTSTART;TZID=America/New_York:20260823T130000
DTEND;TZID=America/New_York:20260823T140000
DTSTAMP:20260423T101233
CREATED:20260204T205120Z
LAST-MODIFIED:20260223T203357Z
UID:23458-1787490000-1787493600@creativethoughtcenter.org
SUMMARY:Peace Pole Meditation -4th Sunday 1 - 2pm
DESCRIPTION:At CTC\, starting Feb 15. \nPeace poles are now the most recognized monument dedicated to peace on earth.\nThey represent the highest aspirations of peace and goodwill inherent in the human heart transcending race\, religion and creed.\nPeace Poles serve as vehicles to carry the message\, May Peace Prevail On Earth\, out to every corner on earth.\nThey are planted to uplift\, empower and elevate the human consciousness to embrace the oneness of our global family. \nAll Donations Appreciated. \nFor more information\, contact Julie Dobson  786-246-3836
URL:https://creativethoughtcenter.org/calendar/peace-pole-meditation-3rd-sunday-1-2pm-4/
LOCATION:Creative Thought Center\, 449-D Pigeon Street\, Waynesville\, Haywood\, 28786\, United States
CATEGORIES:Meditation
END:VEVENT
BEGIN:VEVENT
DTSTART;TZID=America/New_York:20260912T160000
DTEND;TZID=America/New_York:20260912T173000
DTSTAMP:20260423T101233
CREATED:20260204T204137Z
LAST-MODIFIED:20260204T204327Z
UID:23463-1789228800-1789234200@creativethoughtcenter.org
SUMMARY:Dances of Universal Peace - Saturday 4-5:30pm
DESCRIPTION:The Dances of Universal Peace are simple\, meditative\, joyous\, multi-cultural circle dances that use sacred phrases\, chants\, music\, and movements to touch the spiritual essence within ourselves and recognize it in others. A transformative spiritual practice\, the Dances are rooted in the celebration of all the world’s wisdom traditions to inspire harmony and peace. All are welcomed into the circle to hold hands in an embodied prayer of Unity. \nFor more information\, call Moksha 919-384-5406
URL:https://creativethoughtcenter.org/calendar/dances-of-universal-peace-saturday-4-530pm-3/
LOCATION:Creative Thought Center\, 449-D Pigeon Street\, Waynesville\, Haywood\, 28786\, United States
CATEGORIES:Workshop
END:VEVENT
BEGIN:VEVENT
DTSTART;TZID=America/New_York:20260922T130000
DTEND;TZID=America/New_York:20260922T140000
DTSTAMP:20260423T101233
CREATED:20260209T203733Z
LAST-MODIFIED:20260209T205233Z
UID:23500-1790082000-1790085600@creativethoughtcenter.org
SUMMARY:Fall Equinox Drum Circle - Donna Corso  Tues. Sept 22\, 1:00 - 2:00pm
DESCRIPTION:Drum Your Way to Health \nAn Equinox Tradition at CTC \nJoin Donna as we celebrate Mother Earth & the Fall Equinox. We will begin by honoring the six directions followed by a drum circle. Please bring your drums\, rattles\, tambourines\, didgeridoos\, flutes\, or any kind of percussion instruments. Let’s welcome in Autumn! \nIf you thought beating on a drum was just making noise\, think again! It’s been shown that there are many positive health benefits to drumming\, not the least of which is stress reduction.  Drumming releases endorphins in the brain which has been shown to help control chronic pain and create a general feeling of well-being. \nDrumming can even help with fatigue\, anxiety\, asthma\, arthritis\, mental illness\, addiction\, depression\, and more. It can boost your immune system\, increase natural T-cells which can help the body combat viruses\, even cancer. \nDrumming also creates a deeper sense of connectedness with your own Spirit and with other like-minded people. As you flow with the Rhythm of Life by simply feeling the beat\, it helps align your body and mind with the Natural World\, helping to release negative emotions which can form energy blocks. Shamans use drumming as a way to access a higher power and to integrate mind\, body and spirit. \nReady to try it? All are welcome to our quarterly Drum Circle at the Creative Thought Center (449 Pigeon St. Waynesville) every Equinox and Solstice. Bring your drum\, rattle\, or percussion instrument.  No drum? Come anyway and feel the beat! \nFor information call Donna Corso 828-246-0279.
URL:https://creativethoughtcenter.org/calendar/fall-equinox-drum-circle-donna-corso-tues-sept-22-400-500pm/
LOCATION:Creative Thought Center\, 449-D Pigeon Street\, Waynesville\, Haywood\, 28786\, United States
CATEGORIES:Special Event
ORGANIZER;CN="Donna Corso":MAILTO:walschoffice@aol.com
END:VEVENT
BEGIN:VEVENT
DTSTART;TZID=America/New_York:20260927T130000
DTEND;TZID=America/New_York:20260927T140000
DTSTAMP:20260423T101233
CREATED:20260204T205226Z
LAST-MODIFIED:20260223T203321Z
UID:23456-1790514000-1790517600@creativethoughtcenter.org
SUMMARY:Peace Pole Meditation -4th Sunday 1 - 2pm
DESCRIPTION:At CTC\, starting Feb 15. \nPeace poles are now the most recognized monument dedicated to peace on earth.\nThey represent the highest aspirations of peace and goodwill inherent in the human heart transcending race\, religion and creed.\nPeace Poles serve as vehicles to carry the message\, May Peace Prevail On Earth\, out to every corner on earth.\nThey are planted to uplift\, empower and elevate the human consciousness to embrace the oneness of our global family. \nAll Donations Appreciated. \nFor more information\, contact Julie Dobson  786-246-3836
URL:https://creativethoughtcenter.org/calendar/peace-pole-meditation-3rd-sunday-1-2pm-5/
LOCATION:Creative Thought Center\, 449-D Pigeon Street\, Waynesville\, Haywood\, 28786\, United States
CATEGORIES:Meditation
END:VEVENT
BEGIN:VEVENT
DTSTART;TZID=America/New_York:20261025T130000
DTEND;TZID=America/New_York:20261025T140000
DTSTAMP:20260423T101233
CREATED:20260204T205331Z
LAST-MODIFIED:20260223T203251Z
UID:23473-1792933200-1792936800@creativethoughtcenter.org
SUMMARY:Peace Pole Meditation -4th Sunday 1 - 2pm
DESCRIPTION:At CTC\, starting Feb 15. \nPeace poles are now the most recognized monument dedicated to peace on earth.\nThey represent the highest aspirations of peace and goodwill inherent in the human heart transcending race\, religion and creed.\nPeace Poles serve as vehicles to carry the message\, May Peace Prevail On Earth\, out to every corner on earth.\nThey are planted to uplift\, empower and elevate the human consciousness to embrace the oneness of our global family. \nAll Donations Appreciated. \nFor more information\, contact Julie Dobson  786-246-3836
URL:https://creativethoughtcenter.org/calendar/peace-pole-meditation-3rd-sunday-1-2pm-6/
LOCATION:Creative Thought Center\, 449-D Pigeon Street\, Waynesville\, Haywood\, 28786\, United States
CATEGORIES:Meditation
END:VEVENT
BEGIN:VEVENT
DTSTART;TZID=America/New_York:20261122T130000
DTEND;TZID=America/New_York:20261122T140000
DTSTAMP:20260423T101233
CREATED:20260204T205413Z
LAST-MODIFIED:20260223T203218Z
UID:23474-1795352400-1795356000@creativethoughtcenter.org
SUMMARY:Peace Pole Meditation -4th Sunday 1 - 2pm
DESCRIPTION:At CTC\, starting Feb 15. \nPeace poles are now the most recognized monument dedicated to peace on earth.\nThey represent the highest aspirations of peace and goodwill inherent in the human heart transcending race\, religion and creed.\nPeace Poles serve as vehicles to carry the message\, May Peace Prevail On Earth\, out to every corner on earth.\nThey are planted to uplift\, empower and elevate the human consciousness to embrace the oneness of our global family. \nAll Donations Appreciated. \nFor more information\, contact Julie Dobson  786-246-3836
URL:https://creativethoughtcenter.org/calendar/peace-pole-meditation-3rd-sunday-1-2pm-7/
LOCATION:Creative Thought Center\, 449-D Pigeon Street\, Waynesville\, Haywood\, 28786\, United States
CATEGORIES:Meditation
END:VEVENT
BEGIN:VEVENT
DTSTART;TZID=America/New_York:20261212T160000
DTEND;TZID=America/New_York:20261212T173000
DTSTAMP:20260423T101233
CREATED:20260204T204506Z
LAST-MODIFIED:20260204T204506Z
UID:23464-1797091200-1797096600@creativethoughtcenter.org
SUMMARY:Dances of Universal Peace - Saturday 4-5:30pm
DESCRIPTION:The Dances of Universal Peace are simple\, meditative\, joyous\, multi-cultural circle dances that use sacred phrases\, chants\, music\, and movements to touch the spiritual essence within ourselves and recognize it in others. A transformative spiritual practice\, the Dances are rooted in the celebration of all the world’s wisdom traditions to inspire harmony and peace. All are welcomed into the circle to hold hands in an embodied prayer of Unity. \nFor more information\, call Moksha 919-384-5406
URL:https://creativethoughtcenter.org/calendar/dances-of-universal-peace-saturday-4-530pm-4/
LOCATION:Creative Thought Center\, 449-D Pigeon Street\, Waynesville\, Haywood\, 28786\, United States
CATEGORIES:Workshop
END:VEVENT
BEGIN:VEVENT
DTSTART;TZID=America/New_York:20261221T130000
DTEND;TZID=America/New_York:20261221T140000
DTSTAMP:20260423T101233
CREATED:20260209T203600Z
LAST-MODIFIED:20260209T203600Z
UID:23501-1797858000-1797861600@creativethoughtcenter.org
SUMMARY:Winter Solstice Drum Circle - Donna Corso  Monday Dec 21st\, 1:00 - 2:00pm
DESCRIPTION:Join Donna Corso as we drum our way into our inner winter cave on this shortest day of the year. We will begin by honoring the six directions followed by a drum circle. Please bring your drums\, rattles\, tambourines\, didgeridoos\, flutes\, or any kind of percussion/musical instruments. (If you have extra instruments you are willing to share with those who don’t have them\, please bring them) \nReady to try it? All are welcome to our quarterly Drum Circle at the Creative Thought Center (449 Pigeon St. Waynesville) every Equinox and Solstice. Bring your drum\, rattle\, or percussion instrument.  No drum? Come anyway and feel the beat! \nDonations are appreciated.  For information call Donna Corso 828-246-0279.
URL:https://creativethoughtcenter.org/calendar/winter-solstice-drum-circle-donna-corso-monday-dec-21st-100-200pm/
LOCATION:Creative Thought Center\, 449-D Pigeon Street\, Waynesville\, Haywood\, 28786\, United States
CATEGORIES:Special Event
ORGANIZER;CN="Donna Corso":MAILTO:walschoffice@aol.com
END:VEVENT
END:VCALENDAR