BEGIN:VCALENDAR
VERSION:2.0
PRODID:-//Creative Thought Center - ECPv6.15.20//NONSGML v1.0//EN
CALSCALE:GREGORIAN
METHOD:PUBLISH
X-ORIGINAL-URL:https://creativethoughtcenter.org
X-WR-CALDESC:Events for Creative Thought Center
REFRESH-INTERVAL;VALUE=DURATION:PT1H
X-Robots-Tag:noindex
X-PUBLISHED-TTL:PT1H
BEGIN:VTIMEZONE
TZID:America/New_York
BEGIN:DAYLIGHT
TZOFFSETFROM:-0500
TZOFFSETTO:-0400
TZNAME:EDT
DTSTART:20250309T070000
END:DAYLIGHT
BEGIN:STANDARD
TZOFFSETFROM:-0400
TZOFFSETTO:-0500
TZNAME:EST
DTSTART:20251102T060000
END:STANDARD
BEGIN:DAYLIGHT
TZOFFSETFROM:-0500
TZOFFSETTO:-0400
TZNAME:EDT
DTSTART:20260308T070000
END:DAYLIGHT
BEGIN:STANDARD
TZOFFSETFROM:-0400
TZOFFSETTO:-0500
TZNAME:EST
DTSTART:20261101T060000
END:STANDARD
BEGIN:DAYLIGHT
TZOFFSETFROM:-0500
TZOFFSETTO:-0400
TZNAME:EDT
DTSTART:20270314T070000
END:DAYLIGHT
BEGIN:STANDARD
TZOFFSETFROM:-0400
TZOFFSETTO:-0500
TZNAME:EST
DTSTART:20271107T060000
END:STANDARD
END:VTIMEZONE
BEGIN:VEVENT
DTSTART;TZID=America/New_York:20261212T160000
DTEND;TZID=America/New_York:20261212T173000
DTSTAMP:20260421T140528
CREATED:20260204T204506Z
LAST-MODIFIED:20260204T204506Z
UID:23464-1797091200-1797096600@creativethoughtcenter.org
SUMMARY:Dances of Universal Peace - Saturday 4-5:30pm
DESCRIPTION:The Dances of Universal Peace are simple\, meditative\, joyous\, multi-cultural circle dances that use sacred phrases\, chants\, music\, and movements to touch the spiritual essence within ourselves and recognize it in others. A transformative spiritual practice\, the Dances are rooted in the celebration of all the world’s wisdom traditions to inspire harmony and peace. All are welcomed into the circle to hold hands in an embodied prayer of Unity. \nFor more information\, call Moksha 919-384-5406
URL:https://creativethoughtcenter.org/calendar/dances-of-universal-peace-saturday-4-530pm-4/
LOCATION:Creative Thought Center\, 449-D Pigeon Street\, Waynesville\, Haywood\, 28786\, United States
CATEGORIES:Workshop
END:VEVENT
END:VCALENDAR