BEGIN:VCALENDAR
VERSION:2.0
PRODID:-//Creative Thought Center - ECPv6.15.20//NONSGML v1.0//EN
CALSCALE:GREGORIAN
METHOD:PUBLISH
X-WR-CALNAME:Creative Thought Center
X-ORIGINAL-URL:https://creativethoughtcenter.org
X-WR-CALDESC:Events for Creative Thought Center
REFRESH-INTERVAL;VALUE=DURATION:PT1H
X-Robots-Tag:noindex
X-PUBLISHED-TTL:PT1H
BEGIN:VTIMEZONE
TZID:America/New_York
BEGIN:DAYLIGHT
TZOFFSETFROM:-0500
TZOFFSETTO:-0400
TZNAME:EDT
DTSTART:20240310T070000
END:DAYLIGHT
BEGIN:STANDARD
TZOFFSETFROM:-0400
TZOFFSETTO:-0500
TZNAME:EST
DTSTART:20241103T060000
END:STANDARD
BEGIN:DAYLIGHT
TZOFFSETFROM:-0500
TZOFFSETTO:-0400
TZNAME:EDT
DTSTART:20250309T070000
END:DAYLIGHT
BEGIN:STANDARD
TZOFFSETFROM:-0400
TZOFFSETTO:-0500
TZNAME:EST
DTSTART:20251102T060000
END:STANDARD
BEGIN:DAYLIGHT
TZOFFSETFROM:-0500
TZOFFSETTO:-0400
TZNAME:EDT
DTSTART:20260308T070000
END:DAYLIGHT
BEGIN:STANDARD
TZOFFSETFROM:-0400
TZOFFSETTO:-0500
TZNAME:EST
DTSTART:20261101T060000
END:STANDARD
END:VTIMEZONE
BEGIN:VEVENT
DTSTART;TZID=America/New_York:20250815T103000
DTEND;TZID=America/New_York:20250815T123000
DTSTAMP:20260421T171551
CREATED:20250616T181423Z
LAST-MODIFIED:20250616T181423Z
UID:22456-1755253800-1755261000@creativethoughtcenter.org
SUMMARY:Watercolor Class - Joan Doyle  3rd Friday\, 10:30 - 12:30pm
DESCRIPTION:This is a 2 hour class in watercolor.\nWatercolor is easy and fun!  Learn techniques and tips to make your art pop. \nJoan will provide a painting in keeping with the season and then lead the class in creating a masterpiece! \n$40   Payable in advance on Joan’s website: the artistryoflife.com.   Limit 10 people per class.  All supplies provided.  \nFor more info\, you can reach out to Joan at 818-957-6231. \n Do NOT call CTC to register. This is only through Joan.\n This class will be held on the 3rd Friday\, 10:30 – 12:30pm\nJoan Doyle was born in Ireland and began her working life as a Graphic Artist. In 1994 she moved to California to work for Walt Disney Feature Animation. She found her Spiritual Community at North Hollywood Church of Religious Science and became a Practitioner in 2005. After 20 years in the animation industry\, she now paints portraits of homes and blends her two passions in her Spiritual Art. See images on her website at www.theArtistryofLife.com
URL:https://creativethoughtcenter.org/calendar/watercolor-class-joan-doyle-3rd-friday-1030-1230pm-5/
LOCATION:Creative Thought Center\, 449-D Pigeon Street\, Waynesville\, Haywood\, 28786\, United States
CATEGORIES:Workshop
END:VEVENT
BEGIN:VEVENT
DTSTART;TZID=America/New_York:20250831T130000
DTEND;TZID=America/New_York:20250831T150000
DTSTAMP:20260421T171551
CREATED:20250714T170454Z
LAST-MODIFIED:20250714T173042Z
UID:22663-1756645200-1756652400@creativethoughtcenter.org
SUMMARY:Sacred Dance Workshop - Teresa Breakey & Kristy Johnson
DESCRIPTION:This is a workshop for those curious about the fundamentals of Sacred Dance. The workshop will be “tag teamed” by Teresa Breakey & Kristy Johnson who will each cover several of the basic concepts behind Sacred Dance\, such as “why dance?” and “benefits of dance.” This workshop is primarily group participation. Attendees will be taught various hand\, arm\, body & foot dance moves and they will leave the workshop having learned a basic folk dance which utilizes the moves they’ve learned. \nLove Offering
URL:https://creativethoughtcenter.org/calendar/sacred-dance-workshop-teresa-breakey-kristy-johnson/
LOCATION:Creative Thought Center\, 449-D Pigeon Street\, Waynesville\, Haywood\, 28786\, United States
CATEGORIES:Workshop
ORGANIZER;CN="Teresa Breakey":MAILTO:waynesvillectc@gmail.com
END:VEVENT
END:VCALENDAR