BEGIN:VCALENDAR
VERSION:2.0
PRODID:-//Creative Thought Center - ECPv6.15.20//NONSGML v1.0//EN
CALSCALE:GREGORIAN
METHOD:PUBLISH
X-WR-CALNAME:Creative Thought Center
X-ORIGINAL-URL:https://creativethoughtcenter.org
X-WR-CALDESC:Events for Creative Thought Center
REFRESH-INTERVAL;VALUE=DURATION:PT1H
X-Robots-Tag:noindex
X-PUBLISHED-TTL:PT1H
BEGIN:VTIMEZONE
TZID:America/New_York
BEGIN:DAYLIGHT
TZOFFSETFROM:-0500
TZOFFSETTO:-0400
TZNAME:EDT
DTSTART:20250309T070000
END:DAYLIGHT
BEGIN:STANDARD
TZOFFSETFROM:-0400
TZOFFSETTO:-0500
TZNAME:EST
DTSTART:20251102T060000
END:STANDARD
BEGIN:DAYLIGHT
TZOFFSETFROM:-0500
TZOFFSETTO:-0400
TZNAME:EDT
DTSTART:20260308T070000
END:DAYLIGHT
BEGIN:STANDARD
TZOFFSETFROM:-0400
TZOFFSETTO:-0500
TZNAME:EST
DTSTART:20261101T060000
END:STANDARD
BEGIN:DAYLIGHT
TZOFFSETFROM:-0500
TZOFFSETTO:-0400
TZNAME:EDT
DTSTART:20270314T070000
END:DAYLIGHT
BEGIN:STANDARD
TZOFFSETFROM:-0400
TZOFFSETTO:-0500
TZNAME:EST
DTSTART:20271107T060000
END:STANDARD
END:VTIMEZONE
BEGIN:VEVENT
DTSTART;TZID=America/New_York:20260104T103000
DTEND;TZID=America/New_York:20260104T120000
DTSTAMP:20260421T062932
CREATED:20251007T174556Z
LAST-MODIFIED:20251209T172112Z
UID:23060-1767522600-1767528000@creativethoughtcenter.org
SUMMARY:Sunday Message - Kimi Webster "Looking\, Seeing & Being"
DESCRIPTION:Spiritual Message: Kimi Webster “Looking\, Seeing & Being”\nThe fastest path to awaken to higher states of consciousness is Inner Integrity. What does that mean\, why is it important\, and how do you apply it in your daily life? How is it that “New Age” concepts actually hold us back instead of leading us to greater growth\, ease & freedom. \nWhat does SOM reveal about this? \nTechnical: Sharon Otruk…\nTrustee: Donella Davidson…\nGreeter: Sherry Anderson..\n10:30 am Meditation: Joan Doyle…\n10:45 am Fellowship with coffee & tea\n11:00 am Practitioner: Joan Doyle...\nAffirmative Prayer Testimonial:  Cara Gentile\n12:00-12:30 pm: Fellowship following service in kitchen\n  \nKimi moved to Waynesville in 1996 and has been an integral member of our community since 2010. In addition to being the Office Manager\, Kimi is a regular Sunday speaker and a Blessing Giver. \n 
URL:https://creativethoughtcenter.org/calendar/sunday-message-kimi-webster-5/
LOCATION:Creative Thought Center\, 449-D Pigeon Street\, Waynesville\, Haywood\, 28786\, United States
CATEGORIES:Sunday Service
ORGANIZER;CN="Creative Thought Center":MAILTO:info@creativethoughtcenter.org
END:VEVENT
BEGIN:VEVENT
DTSTART;TZID=America/New_York:20260111T103000
DTEND;TZID=America/New_York:20260111T120000
DTSTAMP:20260421T062932
CREATED:20251209T155131Z
LAST-MODIFIED:20251209T155131Z
UID:23282-1768127400-1768132800@creativethoughtcenter.org
SUMMARY:Sunday Message - Kim May "Cave Time is upon us. The perfect time to write your New story!"
DESCRIPTION:Spiritual Message: Kim May  “Cave Time is upon us. The perfect time to write your New story!”\nNOW more than ever before it is crucial to speak\, think and dream BIG about your brand new year on a brand new 5D planet. The days of dualism\, separation and control through fear have ended. This is a new earth of unity\, unlimited abundance for all\, and unconditional Love. Let’s write the new story together. \nTechnical: Justin Elledge..\nTrustee: Kris VanWynen…\nGreeter: Janet Moebius…\n10:30 am Meditation:  Kris VanWynen…\n10:45 am Fellowship with coffee & tea\nTao of Wow: open mic\n11:00 am Practitioner: Cara Gentile…\n12:00-12:30 pm: Fellowship following service\nKim May is a Spiritual Advisor\, Science of Mind Practitioner\, Personal Fitness Trainer\, Author\, Speaker and Teacher but most of all\, she is a Lover through and through.  It is her joy and passion to assist others in remembering who they really are\, what they really want and to create a plan of action by which to manifest their dreams.  Kim believes that addressing each person as a ‘whole and complete’ being\, taking into account their body\, mind and spiritual fitness brings enormous success for all.
URL:https://creativethoughtcenter.org/calendar/sunday-message-kim-may-cave-time-is-upon-us-the-perfect-time-to-write-your-new-story/
LOCATION:Creative Thought Center\, 449-D Pigeon Street\, Waynesville\, Haywood\, 28786\, United States
CATEGORIES:Sunday Service
ORGANIZER;CN="Creative Thought Center":MAILTO:info@creativethoughtcenter.org
END:VEVENT
BEGIN:VEVENT
DTSTART;TZID=America/New_York:20260118T103000
DTEND;TZID=America/New_York:20260118T120000
DTSTAMP:20260421T062932
CREATED:20251222T160235Z
LAST-MODIFIED:20260114T033551Z
UID:23299-1768732200-1768737600@creativethoughtcenter.org
SUMMARY:Sunday Message - Justin Elledge "Bring The Light"
DESCRIPTION:Spiritual Message: Justin Elledge  “Bring The Light”\n“This live presentation will be an immersive experience with Justin Elledge\, connecting the audience with the Divine. Attendees will engage with Sacred Practice to enhance clarity and protection in the New Year. As part of the presentation\, it is recommended to bring a second or separate water vessel or container to receive a direct transmission from Justin Elledge via the water in the container for the attendee to take home.” \nTrustee: Joan Doyle…\nGreeter: Donella Davidson…\nTechnical: Sharon Otruk…\n10:30 am : Meditation: Kimi Webster\n10:45 am: Fellowship chat\nPractitioner: Kimi Webster...\nTao of Wow: Donella Davidson \n11:00 am: Sunday Service \n12:00 12:30: Fellowship \n  \nIn having to overcoming many health issues\, Justin Elledge has an acute understanding of just how fragile and resilient we are\, as human beings. It has been through his own evolution in health and faith that he now finds himself blessed with this ability of Medical Intuition\, a Second Sight.  As an inventor and healer\, Justin looks forward to helping you find your own health and soul enlightenment.  For more info\, please visit: www.theHuman MRI.com. \n 
URL:https://creativethoughtcenter.org/calendar/sunday-message-justin-elledge/
LOCATION:Creative Thought Center\, 449-D Pigeon Street\, Waynesville\, Haywood\, 28786\, United States
CATEGORIES:Sunday Service
ORGANIZER;CN="Creative Thought Center":MAILTO:info@creativethoughtcenter.org
END:VEVENT
BEGIN:VEVENT
DTSTART;TZID=America/New_York:20260125T103000
DTEND;TZID=America/New_York:20260125T120000
DTSTAMP:20260421T062932
CREATED:20251221T181153Z
LAST-MODIFIED:20260122T233009Z
UID:23297-1769337000-1769342400@creativethoughtcenter.org
SUMMARY:Sunday message -CANCELLED BECAUSE OF SNOW
DESCRIPTION:Sunday message – Nancy Kehr “No More Bad Soup”\n2026 is a New Year. Is it time for a new recipe?\n“No More Bad Soup” is a book written by Millie America and\, spoiler alert\, has\nnothing to do with cooking. But I thought how much the very act of making soup has\nspiritual lessons.\nSacred Waiting\nExpect the unexpected\nBeing willing to toss out what doesn’t taste good\nGreeter: Evelyn Ries\nMeditation: Teresa Breakey\nPractitioner: Teresa Breakey\nTrustee: Ann Hibbard\nTech: Randy Outland\nTao of Wow: video \n  \nNancy L. Kehr is a facilitator\, healer and teacher with a Doctor of Chiropractic Medicine degree. Initially training in Family Systems Constellation work\, attending International Systemic Constellation Intensives and continues to learn about new developments in this ever expanding field of work.  Nancy describes herself as a “soul-listener”\, using her intuitive abilities to listen for the deeper stories we all carry within us. \n 
URL:https://creativethoughtcenter.org/calendar/sunday-message-nancy-kehr-no-more-bad-soup/
LOCATION:Creative Thought Center\, 449-D Pigeon Street\, Waynesville\, Haywood\, 28786\, United States
CATEGORIES:Sunday Service
END:VEVENT
END:VCALENDAR