BEGIN:VCALENDAR
VERSION:2.0
PRODID:-//Creative Thought Center - ECPv6.15.20//NONSGML v1.0//EN
CALSCALE:GREGORIAN
METHOD:PUBLISH
X-WR-CALNAME:Creative Thought Center
X-ORIGINAL-URL:https://creativethoughtcenter.org
X-WR-CALDESC:Events for Creative Thought Center
REFRESH-INTERVAL;VALUE=DURATION:PT1H
X-Robots-Tag:noindex
X-PUBLISHED-TTL:PT1H
BEGIN:VTIMEZONE
TZID:America/New_York
BEGIN:DAYLIGHT
TZOFFSETFROM:-0500
TZOFFSETTO:-0400
TZNAME:EDT
DTSTART:20240310T070000
END:DAYLIGHT
BEGIN:STANDARD
TZOFFSETFROM:-0400
TZOFFSETTO:-0500
TZNAME:EST
DTSTART:20241103T060000
END:STANDARD
BEGIN:DAYLIGHT
TZOFFSETFROM:-0500
TZOFFSETTO:-0400
TZNAME:EDT
DTSTART:20250309T070000
END:DAYLIGHT
BEGIN:STANDARD
TZOFFSETFROM:-0400
TZOFFSETTO:-0500
TZNAME:EST
DTSTART:20251102T060000
END:STANDARD
BEGIN:DAYLIGHT
TZOFFSETFROM:-0500
TZOFFSETTO:-0400
TZNAME:EDT
DTSTART:20260308T070000
END:DAYLIGHT
BEGIN:STANDARD
TZOFFSETFROM:-0400
TZOFFSETTO:-0500
TZNAME:EST
DTSTART:20261101T060000
END:STANDARD
END:VTIMEZONE
BEGIN:VEVENT
DTSTART;TZID=America/New_York:20251005T103000
DTEND;TZID=America/New_York:20251005T120000
DTSTAMP:20260421T035027
CREATED:20250721T190154Z
LAST-MODIFIED:20250929T172223Z
UID:22704-1759660200-1759665600@creativethoughtcenter.org
SUMMARY:Sunday Message - Rev. Mary Clayton-McGlauflin "Be Ready for Surprises!
DESCRIPTION:Spiritual Message: Rev. Mary Clayton-McGlauflin “Be Ready for Surprises!\nDoesn’t being ready for a surprise take the “surprise” out of the surprise? Not necessarily. Not if we are living in a state of wonder\, awe\, and gratitude which allows us to see the gift in all of life’s experiences. Father David Steindl-Rast tells us that\, “Even the predictable turns into surprise when we stop taking it for granted.” We’ll explore ways to find and celebrate the gift in all of life’s surprises\, even those that initially appear unpleasant. \nTrustee: Sharon Otruk…\nGreeter: Janet Moebius…\nTechnical: Sharon Otruk…\n10:30 am : Meditation: Kimi Webster…\nPractitioner: Kimi Webster...\nAffirmative Prayer Testimonial: Patricia Outland\n \n12:00-12:30 pm: Fellowship following service\nRev. Mary Clayton-McGlauflin is an ordained Interfaith Peace Minister with a focus on Ecospirituality. She is also a Reiki Master/Teacher\, certified in the Usui\, Holy Fire®\, Karuna®\, and Mary Magdelene Reiki traditions. In the Celtic spiritual tradition of Anam Cara (Soul Friend)\, she provides compassionate spiritual companionship and rituals for the sacred passages of life\, and through her Heart Song Reiki practice\, she offers a lullaby for the Soul by combining gentle\, affirming chants with Reiki to amplify the healing energy and provide a soft\, safe place to land amidst the chaos of life. \n 
URL:https://creativethoughtcenter.org/calendar/sunday-message-rev-mary-clayton-mcglauflin/
LOCATION:Creative Thought Center\, 449-D Pigeon Street\, Waynesville\, Haywood\, 28786\, United States
CATEGORIES:Sunday Service
ORGANIZER;CN="Creative Thought Center":MAILTO:info@creativethoughtcenter.org
END:VEVENT
BEGIN:VEVENT
DTSTART;TZID=America/New_York:20251012T103000
DTEND;TZID=America/New_York:20251012T120000
DTSTAMP:20260421T035027
CREATED:20250721T185912Z
LAST-MODIFIED:20250922T203717Z
UID:22696-1760265000-1760270400@creativethoughtcenter.org
SUMMARY:Sunday Message - Donna Corso - "Peace through Forgiveness"
DESCRIPTION:Spiritual Message: Donna Corso – “Peace through Forgiveness”\nMarianne Williamson said: “Forgiveness is not always easy. At times it feels more painful than the wound we suffered\, to forgive the one who inflicted it. And yet\, there is no peace without forgiveness.”  According to Mary Morrissey\, the key to finding that healing and that peace is simply to be willing.  Pushing through the pain of betrayal or disappointment requires a willingness for transformation. \nTrustee: Donella Davidson…\nGreeter: Sherry Anderson…\nTechnical: Sharon Otruk…\n10:30 am : Meditation: Nancy Bauman…\nPractitioner: Nancy Bauman...\nTao of Wow: Love Between Animals & Humans video\n12:00-12:30 pm: Fellowship following Service \nDonna is an interfaith minister\, public speaker\, Reiki master\, hypnotherapist\, author and a Dream Builder life coach.  She has also been personal assistant to New York Times best-selling author Neale Donald Walsch for 24 years.   \n 
URL:https://creativethoughtcenter.org/calendar/sunday-message-donna-corso-3/
LOCATION:Creative Thought Center\, 449-D Pigeon Street\, Waynesville\, Haywood\, 28786\, United States
CATEGORIES:Sunday Service
ORGANIZER;CN="Creative Thought Center":MAILTO:info@creativethoughtcenter.org
END:VEVENT
BEGIN:VEVENT
DTSTART;TZID=America/New_York:20251019T103000
DTEND;TZID=America/New_York:20251019T120000
DTSTAMP:20260421T035027
CREATED:20250721T185700Z
LAST-MODIFIED:20251013T185335Z
UID:22695-1760869800-1760875200@creativethoughtcenter.org
SUMMARY:Sunday Message - Joan Doyle "It's All You"
DESCRIPTION:Spiritual Message: Joan Doyle – “It’s All You” \nLooking at the roots of Science of Mind we see that the idea of trusting your inner voice as taught in the US goes back to Ralph Waldo Emerson. What did he have to say about how we do that and how does it benefit ourselves\, and the world at large. I will share ways to tap into Source the SOM way. \nTechnical: Justin Elledge…\nTrustee: Kimi Webster..\nGreeter: Evelyn Ries…\n10:30 am Meditation: Donna Corso…\n10:45 am  Fellowship with coffee & tea\n11:00 am Practitioner: Kimi Webster…\nAffirmative Prayer Testimonial: open mic…\n \nJoan Doyle was born in Ireland and began her working life as a Graphic Artist. In 1994 she moved to California to work for Walt Disney Feature Animation. She found her Spiritual Community at North Hollywood Church of Religious Science and became a Practitioner in 2005. After 20 years in the animation industry\, she now paints portraits of homes and blends her two passions in her Spiritual Art. See images on her website at www.theArtistryofLife.com
URL:https://creativethoughtcenter.org/calendar/sunday-message-joan-doyle-2/
LOCATION:Creative Thought Center\, 449-D Pigeon Street\, Waynesville\, Haywood\, 28786\, United States
CATEGORIES:Sunday Service
ORGANIZER;CN="Creative Thought Center":MAILTO:info@creativethoughtcenter.org
END:VEVENT
BEGIN:VEVENT
DTSTART;TZID=America/New_York:20251026T103000
DTEND;TZID=America/New_York:20251026T120000
DTSTAMP:20260421T035027
CREATED:20250721T190513Z
LAST-MODIFIED:20251021T141253Z
UID:22698-1761474600-1761480000@creativethoughtcenter.org
SUMMARY:Sunday Message - Hal Breakey "Thought Forms of Faith\, Fear & Possession"
DESCRIPTION:Spiritual Message: Hal Breakey “Thought Forms of Faith\, Fear & Possession”\nHumanity’s relationship to the mystery of the unknown can take many forms. Thought Forms\, like shapeshifting ghosts\, can direct the imagination into uncharted realms of both fear and fantasy. Conscious and unconscious imaginings cause physiological and psychological changes to occur\, leading to many unexpected life outcomes for those lacking understanding. In this presentation Dr. Pumpkin Head  will explore the supernatural world of living energy fields and spiritual entities. Tulpas\, Survitors\, Golems\, Domestic Spirits that manifest our heart desires for good or ill will be discussed. This talk will also cover the world of Egregores and Hyper objects\, which are cultural energy fields that may take on a life of their own seeking power and world domination. As people of Light and Love\, the presentation will conclude with how we might best live and communicate in a world fraught with such spiritual dangers and opportunities. \nTrustee: Kim Walzer…\nGreeter: Nancy Bauman…\nTechnical: Justin Elledge…\n10:30 am : Meditation: Justin Elledge…\nPractitioner: Joan Doyle...\nTao of Wow: Kim Walzer..\n \nDr. Breakey is a Pastoral Psychologist and ordained minister with over 30 years’ experience in counseling and human services.  He has successfully applied his training and wisdom in roles with the Air Force Academy\, as a Hospital Palliative Care and Clinical Substance Abuse Counselor\, in an innovative program  with the Florida Metropolitan University\, and in his own private practice.   \n 
URL:https://creativethoughtcenter.org/calendar/sunday-message-hal-breakey-4/
LOCATION:Creative Thought Center\, 449-D Pigeon Street\, Waynesville\, Haywood\, 28786\, United States
CATEGORIES:Sunday Service
ORGANIZER;CN="Creative Thought Center":MAILTO:info@creativethoughtcenter.org
END:VEVENT
END:VCALENDAR