BEGIN:VCALENDAR
VERSION:2.0
PRODID:-//Creative Thought Center - ECPv6.15.20//NONSGML v1.0//EN
CALSCALE:GREGORIAN
METHOD:PUBLISH
X-ORIGINAL-URL:https://creativethoughtcenter.org
X-WR-CALDESC:Events for Creative Thought Center
REFRESH-INTERVAL;VALUE=DURATION:PT1H
X-Robots-Tag:noindex
X-PUBLISHED-TTL:PT1H
BEGIN:VTIMEZONE
TZID:America/New_York
BEGIN:DAYLIGHT
TZOFFSETFROM:-0500
TZOFFSETTO:-0400
TZNAME:EDT
DTSTART:20240310T070000
END:DAYLIGHT
BEGIN:STANDARD
TZOFFSETFROM:-0400
TZOFFSETTO:-0500
TZNAME:EST
DTSTART:20241103T060000
END:STANDARD
BEGIN:DAYLIGHT
TZOFFSETFROM:-0500
TZOFFSETTO:-0400
TZNAME:EDT
DTSTART:20250309T070000
END:DAYLIGHT
BEGIN:STANDARD
TZOFFSETFROM:-0400
TZOFFSETTO:-0500
TZNAME:EST
DTSTART:20251102T060000
END:STANDARD
BEGIN:DAYLIGHT
TZOFFSETFROM:-0500
TZOFFSETTO:-0400
TZNAME:EDT
DTSTART:20260308T070000
END:DAYLIGHT
BEGIN:STANDARD
TZOFFSETFROM:-0400
TZOFFSETTO:-0500
TZNAME:EST
DTSTART:20261101T060000
END:STANDARD
END:VTIMEZONE
BEGIN:VEVENT
DTSTART;TZID=America/New_York:20250907T103000
DTEND;TZID=America/New_York:20250907T120000
DTSTAMP:20260421T124842
CREATED:20250721T185012Z
LAST-MODIFIED:20250919T202239Z
UID:22646-1757241000-1757246400@creativethoughtcenter.org
SUMMARY:Sunday Message - Kim May "What the Mystics have taught"
DESCRIPTION:Spiritual Message: Kim May  “What the Mystics have taught”\nThis chapter is rich with wonderful concepts we began exploring in June\, but ran out of time. Together we will finish mining several more concepts from this chapter that provide insight\, and deeper understanding of our Spiritual tools. \nTechnical: Justin Elledge..\nTrustee: Susan Stilwell…\nGreeter: Janet Moebius…\n10:30 am Meditation:  Lauren Hoyt…\n10:45 am Fellowship with coffee & tea\nAffirmative Prayer Testimonial: Nancy Bauman\n11:00 am Practitioner: Kimi Webster…\n12:00-12:30 pm: Fellowship following service\nKim May is a Spiritual Advisor\, Science of Mind Practitioner\, Personal Fitness Trainer\, Author\, Speaker and Teacher but most of all\, she is a Lover through and through.  It is her joy and passion to assist others in remembering who they really are\, what they really want and to create a plan of action by which to manifest their dreams.  Kim believes that addressing each person as a ‘whole and complete’ being\, taking into account their body\, mind and spiritual fitness brings enormous success for all.
URL:https://creativethoughtcenter.org/calendar/sunday-message-kim-may-3/
LOCATION:Creative Thought Center\, 449-D Pigeon Street\, Waynesville\, Haywood\, 28786\, United States
CATEGORIES:Sunday Service
ORGANIZER;CN="Creative Thought Center":MAILTO:info@creativethoughtcenter.org
END:VEVENT
BEGIN:VEVENT
DTSTART;TZID=America/New_York:20250914T103000
DTEND;TZID=America/New_York:20250914T120000
DTSTAMP:20260421T124842
CREATED:20250721T185235Z
LAST-MODIFIED:20250919T203013Z
UID:22693-1757845800-1757851200@creativethoughtcenter.org
SUMMARY:Sunday Message - Justin Elledge "The Energetic Immune System: How Spirits Test Out Sovereignty"
DESCRIPTION:Spiritual Message: Justin Elledge  “The Energetic Immune System: How Spirits Test Out Sovereignty”\nI will be sharing a history of practices to remain safe and Sovereign in a world of negativity\, negative thoughts and emotions\, and how spirits known as “Hungry Ghosts” prey upon those living in ignorance / in the dark and how to bring in Sacred Light and Space to our physical and Spiritual bodies! \nTrustee: Joan Doyle…\nGreeter: Sherry Anderson…\nTechnical: Randy Outland…\n10:30 am : Meditation: Joan Doyle\n10:45 am: Fellowship chat\nPractitioner: Joan Doyle...\nTao of Wow: Everything Happens for a Reason video \n11:00 am: Sunday Service \n12:00 12:30: Fellowship  \n  \nIn having to overcoming many health issues\, Justin Elledge has an acute understanding of just how fragile and resilient we are\, as human beings. It has been through his own evolution in health and faith that he now finds himself blessed with this ability of Medical Intuition\, a Second Sight.  As an inventor and healer\, Justin looks forward to helping you find your own health and soul enlightenment.  For more info\, please visit: www.theHuman MRI.com. \n 
URL:https://creativethoughtcenter.org/calendar/sunday-message-justin-elledge-2/
LOCATION:Creative Thought Center\, 449-D Pigeon Street\, Waynesville\, Haywood\, 28786\, United States
CATEGORIES:Sunday Service
ORGANIZER;CN="Creative Thought Center":MAILTO:info@creativethoughtcenter.org
END:VEVENT
BEGIN:VEVENT
DTSTART;TZID=America/New_York:20250921T103000
DTEND;TZID=America/New_York:20250921T120000
DTSTAMP:20260421T124842
CREATED:20250721T185438Z
LAST-MODIFIED:20250919T204054Z
UID:22694-1758450600-1758456000@creativethoughtcenter.org
SUMMARY:Sunday Message - Patricia Outland "Transcendence"
DESCRIPTION:Spiritual Message: Patricia Outland  “Transcendence” \nTranscendence to Spiritual Enlightenment. \n\nTrustee:  Kris VanWynen…\nGreeter: Evelyn Ries…\nTechnical: Justin Elledge…\n10:30 am Meditation: Randy Outland…\n10:45 am Fellowship\, coffee or tea…\n11:00 am Practitioner: Teresa Breakey..\nAffirmative Prayer Testimonial: Cara Gentile\n12:00-12:30 pm Fellowship \n  \n  \nPatricia Outland is a retired Psychiatric Nurse Practitioner.  Her extensive experience in both healthcare and exploration of teachings and philosophies from around the globe has equipped her with a unique and refreshing perspective that has a profound and positive effect in sparking “aha” moments.  Patricia is also a Licensed Practitioner at the Creative Thought Center.
URL:https://creativethoughtcenter.org/calendar/sunday-message-patricia-outland/
LOCATION:Creative Thought Center\, 449D Pigeon St\, Waynesville\, NC\, 28786\, United States
CATEGORIES:Sunday Service
ORGANIZER;CN="Creative Thought Center":MAILTO:info@creativethoughtcenter.org
END:VEVENT
BEGIN:VEVENT
DTSTART;TZID=America/New_York:20250928T103000
DTEND;TZID=America/New_York:20250928T120000
DTSTAMP:20260421T124842
CREATED:20250714T161127Z
LAST-MODIFIED:20250922T191732Z
UID:22659-1759055400-1759060800@creativethoughtcenter.org
SUMMARY:Sunday Message - Mitch Earle - "Prayer and the Power of Holding Space"
DESCRIPTION:Spiritual Message: Mitch Earle – “Prayer and the Power of Holding Space”\nWhat is New Thought affirmative prayer? What is it not? What does “holding space” mean? How can praying by holding space shift the trajectory of your experiences? He will share a person example of this which\, if it didn’t happen\, he wouldn’t be speaking here. \nTrustee: Susan…\nGreeter: Mark Trantham…\nTechnical: Randy Outland…\n10:30 am : Meditation: Hal Breakey…\nPractitioner: Patricia Outland...\nTao of Wow: open mic\n12:00-12:30 pm: Fellowship following Service \nMitch Earle is a licensed spiritual counselor through Agape International Spiritual Center (Michael Beckwith) since 2006\, a Centers for Spiritual Living Practitioner (RScP) and a Unity Chaplain. He has facilitated numerous Life Visioning workshops online and in-person. Mitch is a former local radio news anchor with NPR member-station KCRW in Los Angeles\, California. He currently resides in the Southeast.
URL:https://creativethoughtcenter.org/calendar/sunday-message-mitch-earle-prayer-and-the-power-of-holding-space/
LOCATION:Creative Thought Center\, 449-D Pigeon Street\, Waynesville\, Haywood\, 28786\, United States
CATEGORIES:Sunday Service
ORGANIZER;CN="Creative Thought Center":MAILTO:info@creativethoughtcenter.org
END:VEVENT
END:VCALENDAR