BEGIN:VCALENDAR
VERSION:2.0
PRODID:-//Creative Thought Center - ECPv6.15.20//NONSGML v1.0//EN
CALSCALE:GREGORIAN
METHOD:PUBLISH
X-ORIGINAL-URL:https://creativethoughtcenter.org
X-WR-CALDESC:Events for Creative Thought Center
REFRESH-INTERVAL;VALUE=DURATION:PT1H
X-Robots-Tag:noindex
X-PUBLISHED-TTL:PT1H
BEGIN:VTIMEZONE
TZID:America/New_York
BEGIN:DAYLIGHT
TZOFFSETFROM:-0500
TZOFFSETTO:-0400
TZNAME:EDT
DTSTART:20240310T070000
END:DAYLIGHT
BEGIN:STANDARD
TZOFFSETFROM:-0400
TZOFFSETTO:-0500
TZNAME:EST
DTSTART:20241103T060000
END:STANDARD
BEGIN:DAYLIGHT
TZOFFSETFROM:-0500
TZOFFSETTO:-0400
TZNAME:EDT
DTSTART:20250309T070000
END:DAYLIGHT
BEGIN:STANDARD
TZOFFSETFROM:-0400
TZOFFSETTO:-0500
TZNAME:EST
DTSTART:20251102T060000
END:STANDARD
BEGIN:DAYLIGHT
TZOFFSETFROM:-0500
TZOFFSETTO:-0400
TZNAME:EDT
DTSTART:20260308T070000
END:DAYLIGHT
BEGIN:STANDARD
TZOFFSETFROM:-0400
TZOFFSETTO:-0500
TZNAME:EST
DTSTART:20261101T060000
END:STANDARD
END:VTIMEZONE
BEGIN:VEVENT
DTSTART;TZID=America/New_York:20250824T103000
DTEND;TZID=America/New_York:20250824T140000
DTSTAMP:20260420T124645
CREATED:20250714T155630Z
LAST-MODIFIED:20250714T155630Z
UID:22655-1756031400-1756044000@creativethoughtcenter.org
SUMMARY:Summer Potluck Picnic at Allens Creek Park - 10:30 am - 2:00 pm
DESCRIPTION:CTC Members – Please join us for a great day of fellowship under a covered pavilion. \nPlease bring a dish to share with everyone with a card identifying the ingredients.\nBring your EarthCare Kits as utensils\, plates\, cuts & napkins will NOT be provided.\nLeashed pets are permitted. \n10:30 am Set Up \n11:00 am  Picnic \nPrayer: Cara Gentile \n1:00 pm Clean Up & Break Down \n 
URL:https://creativethoughtcenter.org/calendar/summer-potluck-picnic-at-allens-creek-park-1030-am-200-pm/
LOCATION:Allens Creek Park\, 1725 Allens Creek Rd\, Waynesville\, NC\, 28786\, United States
CATEGORIES:Meetings,Special Event
END:VEVENT
END:VCALENDAR