BEGIN:VCALENDAR
VERSION:2.0
PRODID:-//Creative Thought Center - ECPv6.15.20//NONSGML v1.0//EN
CALSCALE:GREGORIAN
METHOD:PUBLISH
X-WR-CALNAME:Creative Thought Center
X-ORIGINAL-URL:https://creativethoughtcenter.org
X-WR-CALDESC:Events for Creative Thought Center
REFRESH-INTERVAL;VALUE=DURATION:PT1H
X-Robots-Tag:noindex
X-PUBLISHED-TTL:PT1H
BEGIN:VTIMEZONE
TZID:America/New_York
BEGIN:DAYLIGHT
TZOFFSETFROM:-0500
TZOFFSETTO:-0400
TZNAME:EDT
DTSTART:20240310T070000
END:DAYLIGHT
BEGIN:STANDARD
TZOFFSETFROM:-0400
TZOFFSETTO:-0500
TZNAME:EST
DTSTART:20241103T060000
END:STANDARD
BEGIN:DAYLIGHT
TZOFFSETFROM:-0500
TZOFFSETTO:-0400
TZNAME:EDT
DTSTART:20250309T070000
END:DAYLIGHT
BEGIN:STANDARD
TZOFFSETFROM:-0400
TZOFFSETTO:-0500
TZNAME:EST
DTSTART:20251102T060000
END:STANDARD
BEGIN:DAYLIGHT
TZOFFSETFROM:-0500
TZOFFSETTO:-0400
TZNAME:EDT
DTSTART:20260308T070000
END:DAYLIGHT
BEGIN:STANDARD
TZOFFSETFROM:-0400
TZOFFSETTO:-0500
TZNAME:EST
DTSTART:20261101T060000
END:STANDARD
END:VTIMEZONE
BEGIN:VEVENT
DTSTART;TZID=America/New_York:20250520T180000
DTEND;TZID=America/New_York:20250520T203000
DTSTAMP:20260420T175337
CREATED:20250513T164810Z
LAST-MODIFIED:20250513T164810Z
UID:22388-1747764000-1747773000@creativethoughtcenter.org
SUMMARY:Card Night 6-8:30pm   1st & 3rd Tues
DESCRIPTION:The first and third Tuesday evening of each month\, Susan Stilwell will host a Card Night at CTC from 6-8:30pm. \nThe featured game will be Skip Bo to begin with . \nCome join the fun!
URL:https://creativethoughtcenter.org/calendar/card-night-6-830pm-1st-3rd-tues-3/
LOCATION:Creative Thought Center\, 449-D Pigeon Street\, Waynesville\, Haywood\, 28786\, United States
CATEGORIES:Special Event
ORGANIZER;CN="Susan Stilwell":MAILTO:waynesvillectc@gmail.com
END:VEVENT
END:VCALENDAR