BEGIN:VCALENDAR
VERSION:2.0
PRODID:-//Creative Thought Center - ECPv6.15.20//NONSGML v1.0//EN
CALSCALE:GREGORIAN
METHOD:PUBLISH
X-ORIGINAL-URL:https://creativethoughtcenter.org
X-WR-CALDESC:Events for Creative Thought Center
REFRESH-INTERVAL;VALUE=DURATION:PT1H
X-Robots-Tag:noindex
X-PUBLISHED-TTL:PT1H
BEGIN:VTIMEZONE
TZID:America/New_York
BEGIN:DAYLIGHT
TZOFFSETFROM:-0500
TZOFFSETTO:-0400
TZNAME:EDT
DTSTART:20240310T070000
END:DAYLIGHT
BEGIN:STANDARD
TZOFFSETFROM:-0400
TZOFFSETTO:-0500
TZNAME:EST
DTSTART:20241103T060000
END:STANDARD
BEGIN:DAYLIGHT
TZOFFSETFROM:-0500
TZOFFSETTO:-0400
TZNAME:EDT
DTSTART:20250309T070000
END:DAYLIGHT
BEGIN:STANDARD
TZOFFSETFROM:-0400
TZOFFSETTO:-0500
TZNAME:EST
DTSTART:20251102T060000
END:STANDARD
BEGIN:DAYLIGHT
TZOFFSETFROM:-0500
TZOFFSETTO:-0400
TZNAME:EDT
DTSTART:20260308T070000
END:DAYLIGHT
BEGIN:STANDARD
TZOFFSETFROM:-0400
TZOFFSETTO:-0500
TZNAME:EST
DTSTART:20261101T060000
END:STANDARD
END:VTIMEZONE
BEGIN:VEVENT
DTSTART;TZID=America/New_York:20250911T100000
DTEND;TZID=America/New_York:20250911T113000
DTSTAMP:20260421T155501
CREATED:20250722T165837Z
LAST-MODIFIED:20250919T202626Z
UID:22720-1757584800-1757590200@creativethoughtcenter.org
SUMMARY:Law Of Attraction - LOA\, 2nd & 4th Thurs. 10:00-11:30am at CTC
DESCRIPTION: The law of attraction is a philosophy suggesting that positive thoughts bring positive results into a person’s life\, while negative thoughts bring negative outcomes. It is based on the belief that thoughts are a form of energy and that positive energy attracts success in all areas of life\, including health\, finances\, and relationships. \nLove Offering – No One Turned Away Due To Financial Constraints \nFor more information\, contact Kim May  828-734-0305. Meeting at CTC \n 
URL:https://creativethoughtcenter.org/calendar/law-of-attraction-loa-2nd-4th-thurs-1000-1130am-at-ctc-18/
LOCATION:Creative Thought Center\, 449-D Pigeon Street\, Waynesville\, Haywood\, 28786\, United States
CATEGORIES:Meetings
ORGANIZER;CN="Creative Thought Center":MAILTO:info@creativethoughtcenter.org
END:VEVENT
BEGIN:VEVENT
DTSTART;TZID=America/New_York:20250925T100000
DTEND;TZID=America/New_York:20250925T113000
DTSTAMP:20260421T155501
CREATED:20250722T165905Z
LAST-MODIFIED:20250919T203141Z
UID:22721-1758794400-1758799800@creativethoughtcenter.org
SUMMARY:Law Of Attraction - LOA\, 2nd & 4th Thurs. 10:00-11:30am at CTC
DESCRIPTION: The law of attraction is a philosophy suggesting that positive thoughts bring positive results into a person’s life\, while negative thoughts bring negative outcomes. It is based on the belief that thoughts are a form of energy and that positive energy attracts success in all areas of life\, including health\, finances\, and relationships. \nLove Offering – No One Turned Away Due To Financial Constraints \nFor more information\, contact Kim May  828-734-0305. Meeting at CTC \n 
URL:https://creativethoughtcenter.org/calendar/law-of-attraction-loa-2nd-4th-thurs-1000-1130am-at-ctc-19/
LOCATION:Creative Thought Center\, 449-D Pigeon Street\, Waynesville\, Haywood\, 28786\, United States
CATEGORIES:Meetings
ORGANIZER;CN="Creative Thought Center":MAILTO:info@creativethoughtcenter.org
END:VEVENT
END:VCALENDAR