BEGIN:VCALENDAR
VERSION:2.0
PRODID:-//Creative Thought Center - ECPv6.15.20//NONSGML v1.0//EN
CALSCALE:GREGORIAN
METHOD:PUBLISH
X-WR-CALNAME:Creative Thought Center
X-ORIGINAL-URL:https://creativethoughtcenter.org
X-WR-CALDESC:Events for Creative Thought Center
REFRESH-INTERVAL;VALUE=DURATION:PT1H
X-Robots-Tag:noindex
X-PUBLISHED-TTL:PT1H
BEGIN:VTIMEZONE
TZID:America/New_York
BEGIN:DAYLIGHT
TZOFFSETFROM:-0500
TZOFFSETTO:-0400
TZNAME:EDT
DTSTART:20240310T070000
END:DAYLIGHT
BEGIN:STANDARD
TZOFFSETFROM:-0400
TZOFFSETTO:-0500
TZNAME:EST
DTSTART:20241103T060000
END:STANDARD
BEGIN:DAYLIGHT
TZOFFSETFROM:-0500
TZOFFSETTO:-0400
TZNAME:EDT
DTSTART:20250309T070000
END:DAYLIGHT
BEGIN:STANDARD
TZOFFSETFROM:-0400
TZOFFSETTO:-0500
TZNAME:EST
DTSTART:20251102T060000
END:STANDARD
BEGIN:DAYLIGHT
TZOFFSETFROM:-0500
TZOFFSETTO:-0400
TZNAME:EDT
DTSTART:20260308T070000
END:DAYLIGHT
BEGIN:STANDARD
TZOFFSETFROM:-0400
TZOFFSETTO:-0500
TZNAME:EST
DTSTART:20261101T060000
END:STANDARD
END:VTIMEZONE
BEGIN:VEVENT
DTSTART;TZID=America/New_York:20250814T100000
DTEND;TZID=America/New_York:20250814T113000
DTSTAMP:20260421T164604
CREATED:20250708T160338Z
LAST-MODIFIED:20250708T160338Z
UID:22479-1755165600-1755171000@creativethoughtcenter.org
SUMMARY:Law Of Attraction - LOA\, 2nd & 4th Thurs. 10:00-11:30am at CTC
DESCRIPTION: The law of attraction is a philosophy suggesting that positive thoughts bring positive results into a person’s life\, while negative thoughts bring negative outcomes. It is based on the belief that thoughts are a form of energy and that positive energy attracts success in all areas of life\, including health\, finances\, and relationships. \nLove Offering – No One Turned Away Due To Financial Constraints \nFor more information\, contact Kim May  828-734-0305. Meeting at CTC \n 
URL:https://creativethoughtcenter.org/calendar/law-of-attraction-loa-2nd-4th-thurs-1000-1130am-at-ctc-5/
LOCATION:Creative Thought Center\, 449-D Pigeon Street\, Waynesville\, Haywood\, 28786\, United States
CATEGORIES:Meetings
END:VEVENT
BEGIN:VEVENT
DTSTART;TZID=America/New_York:20250824T103000
DTEND;TZID=America/New_York:20250824T140000
DTSTAMP:20260421T164604
CREATED:20250714T155630Z
LAST-MODIFIED:20250714T155630Z
UID:22655-1756031400-1756044000@creativethoughtcenter.org
SUMMARY:Summer Potluck Picnic at Allens Creek Park - 10:30 am - 2:00 pm
DESCRIPTION:CTC Members – Please join us for a great day of fellowship under a covered pavilion. \nPlease bring a dish to share with everyone with a card identifying the ingredients.\nBring your EarthCare Kits as utensils\, plates\, cuts & napkins will NOT be provided.\nLeashed pets are permitted. \n10:30 am Set Up \n11:00 am  Picnic \nPrayer: Cara Gentile \n1:00 pm Clean Up & Break Down \n 
URL:https://creativethoughtcenter.org/calendar/summer-potluck-picnic-at-allens-creek-park-1030-am-200-pm/
LOCATION:Allens Creek Park\, 1725 Allens Creek Rd\, Waynesville\, NC\, 28786\, United States
CATEGORIES:Meetings,Special Event
END:VEVENT
BEGIN:VEVENT
DTSTART;TZID=America/New_York:20250828T100000
DTEND;TZID=America/New_York:20250828T113000
DTSTAMP:20260421T164604
CREATED:20250708T160426Z
LAST-MODIFIED:20250708T160426Z
UID:22478-1756375200-1756380600@creativethoughtcenter.org
SUMMARY:Law Of Attraction - LOA\, 2nd & 4th Thurs. 10:00-11:30am at CTC
DESCRIPTION: The law of attraction is a philosophy suggesting that positive thoughts bring positive results into a person’s life\, while negative thoughts bring negative outcomes. It is based on the belief that thoughts are a form of energy and that positive energy attracts success in all areas of life\, including health\, finances\, and relationships. \nLove Offering – No One Turned Away Due To Financial Constraints \nFor more information\, contact Kim May  828-734-0305. Meeting at CTC \n 
URL:https://creativethoughtcenter.org/calendar/law-of-attraction-loa-2nd-4th-thurs-1000-1130am-at-ctc-6/
LOCATION:Creative Thought Center\, 449-D Pigeon Street\, Waynesville\, Haywood\, 28786\, United States
CATEGORIES:Meetings
END:VEVENT
END:VCALENDAR