BEGIN:VCALENDAR
VERSION:2.0
PRODID:-//Creative Thought Center - ECPv6.15.20//NONSGML v1.0//EN
CALSCALE:GREGORIAN
METHOD:PUBLISH
X-WR-CALNAME:Creative Thought Center
X-ORIGINAL-URL:https://creativethoughtcenter.org
X-WR-CALDESC:Events for Creative Thought Center
REFRESH-INTERVAL;VALUE=DURATION:PT1H
X-Robots-Tag:noindex
X-PUBLISHED-TTL:PT1H
BEGIN:VTIMEZONE
TZID:America/New_York
BEGIN:DAYLIGHT
TZOFFSETFROM:-0500
TZOFFSETTO:-0400
TZNAME:EDT
DTSTART:20250309T070000
END:DAYLIGHT
BEGIN:STANDARD
TZOFFSETFROM:-0400
TZOFFSETTO:-0500
TZNAME:EST
DTSTART:20251102T060000
END:STANDARD
BEGIN:DAYLIGHT
TZOFFSETFROM:-0500
TZOFFSETTO:-0400
TZNAME:EDT
DTSTART:20260308T070000
END:DAYLIGHT
BEGIN:STANDARD
TZOFFSETFROM:-0400
TZOFFSETTO:-0500
TZNAME:EST
DTSTART:20261101T060000
END:STANDARD
BEGIN:DAYLIGHT
TZOFFSETFROM:-0500
TZOFFSETTO:-0400
TZNAME:EDT
DTSTART:20270314T070000
END:DAYLIGHT
BEGIN:STANDARD
TZOFFSETFROM:-0400
TZOFFSETTO:-0500
TZNAME:EST
DTSTART:20271107T060000
END:STANDARD
END:VTIMEZONE
BEGIN:VEVENT
DTSTART;TZID=America/New_York:20260308T121500
DTEND;TZID=America/New_York:20260308T131500
DTSTAMP:20260420T062552
CREATED:20260302T204454Z
LAST-MODIFIED:20260302T204454Z
UID:23590-1772972100-1772975700@creativethoughtcenter.org
SUMMARY:Sunday 12:15-1:15 “Introduction to becoming a Practitioner”
DESCRIPTION:This is an opportunity for anyone interested in becoming more familiar with Dr. Holmes teachings of Science of Mind\, or better understand the role of a Practitioner here at CTC. We will discuss the six month course we offer to become a licensed Practitioner\, and ask those interested\, to be willing to commit to 2 hours following Sunday service\, to receive these lessons. \nThere is a fee of $50 to be paid to the Practitioner teaching for that month\, $300 total cost. We do offer scholarships to anyone interested in becoming a Practitioner but is unable to afford the full cost. \n\nKim May is a Spiritual Advisor\, Science of Mind Practitioner\, Personal Fitness Trainer\, Author\, Speaker and Teacher but most of all\, she is a Lover through and through.  It is her joy and passion to assist others in remembering who they really are\, what they really want and to create a plan of action by which to manifest their dreams.  Kim believes that addressing each person as a ‘whole and complete’ being\, taking into account their body\, mind and spiritual fitness brings enormous success for all.
URL:https://creativethoughtcenter.org/calendar/sunday-1215-115-introduction-to-becoming-a-practitioner/
LOCATION:Creative Thought Center\, 449-D Pigeon Street\, Waynesville\, Haywood\, 28786\, United States
CATEGORIES:Informational,Sunday Service
ORGANIZER;CN="Creative Thought Center":MAILTO:info@creativethoughtcenter.org
END:VEVENT
BEGIN:VEVENT
DTSTART;TZID=America/New_York:20260325T160000
DTEND;TZID=America/New_York:20260325T170000
DTSTAMP:20260420T062552
CREATED:20260323T184937Z
LAST-MODIFIED:20260323T193113Z
UID:23757-1774454400-1774458000@creativethoughtcenter.org
SUMMARY:Intentional Community Visioning - 4:00-5:00pm at CTC
DESCRIPTION:“An intentional community is a group of people who live together or share common facilities and who regularly associate with each other on the basis of explicit common values.” \nCome vision an intentional community in this area!\nIt’s Time To Co-create!\nJoin Kristy Johnson & Company
URL:https://creativethoughtcenter.org/calendar/intentional-community-visioning-400-500pm/
LOCATION:Creative Thought Center\, 449-D Pigeon Street\, Waynesville\, Haywood\, 28786\, United States
CATEGORIES:Informational
END:VEVENT
END:VCALENDAR