BEGIN:VCALENDAR
VERSION:2.0
PRODID:-//Creative Thought Center - ECPv6.15.20//NONSGML v1.0//EN
CALSCALE:GREGORIAN
METHOD:PUBLISH
X-ORIGINAL-URL:https://creativethoughtcenter.org
X-WR-CALDESC:Events for Creative Thought Center
REFRESH-INTERVAL;VALUE=DURATION:PT1H
X-Robots-Tag:noindex
X-PUBLISHED-TTL:PT1H
BEGIN:VTIMEZONE
TZID:America/New_York
BEGIN:DAYLIGHT
TZOFFSETFROM:-0500
TZOFFSETTO:-0400
TZNAME:EDT
DTSTART:20240310T070000
END:DAYLIGHT
BEGIN:STANDARD
TZOFFSETFROM:-0400
TZOFFSETTO:-0500
TZNAME:EST
DTSTART:20241103T060000
END:STANDARD
BEGIN:DAYLIGHT
TZOFFSETFROM:-0500
TZOFFSETTO:-0400
TZNAME:EDT
DTSTART:20250309T070000
END:DAYLIGHT
BEGIN:STANDARD
TZOFFSETFROM:-0400
TZOFFSETTO:-0500
TZNAME:EST
DTSTART:20251102T060000
END:STANDARD
BEGIN:DAYLIGHT
TZOFFSETFROM:-0500
TZOFFSETTO:-0400
TZNAME:EDT
DTSTART:20260308T070000
END:DAYLIGHT
BEGIN:STANDARD
TZOFFSETFROM:-0400
TZOFFSETTO:-0500
TZNAME:EST
DTSTART:20261101T060000
END:STANDARD
END:VTIMEZONE
BEGIN:VEVENT
DTSTART;TZID=America/New_York:20250904T180000
DTEND;TZID=America/New_York:20250904T190000
DTSTAMP:20260421T154132
CREATED:20250722T170500Z
LAST-MODIFIED:20250919T202118Z
UID:22719-1757008800-1757012400@creativethoughtcenter.org
SUMMARY:SOM- "Braiding Sweet Grass" by Robin Wall Kimmerer - Thurs 6pm
DESCRIPTION:Starting June 19th \n\n\n\n\n\nIn Braiding Sweetgrass\, Robin Wall Kimmerer draws upon Indigenous wisdom and environmental science to explore humanity’s reciprocal relationship with nature. The author recounts sacred creation stories and rituals—such as the Skywoman Falling myth and the Haudenosaunee Thanksgiving Address—that center gratitude\, kinship\, and reciprocity as guiding principles for sustainability. \nKimmerer argues that the path forward lies in integrating traditional ecological knowledge with scientific methods. The practices of sustainable harvests\, listening to “plant languages\,” and heeding the Windigo myth’s warnings against overconsumption offer a pathway to restoring balance between humans and the natural world. \n\n\n\n\n\n\nThis group meets on Zoom from 6 – 7pm.\n\n\n\n\n\nCathy Riggsbee and Kathleen Wood will be heading up the SOM discussion group. \nContact Cathy at 828-550-3812 for more information. \n 
URL:https://creativethoughtcenter.org/calendar/som-braiding-sweet-grass-by-robin-wall-kimmerer-thurs-6pm-10/
LOCATION:Creative Thought Center\, 449-D Pigeon Street\, Waynesville\, Haywood\, 28786\, United States
CATEGORIES:Discussion Group
ORGANIZER;CN="Creative Thought Center":MAILTO:info@creativethoughtcenter.org
END:VEVENT
BEGIN:VEVENT
DTSTART;TZID=America/New_York:20250911T180000
DTEND;TZID=America/New_York:20250911T190000
DTSTAMP:20260421T154132
CREATED:20250722T170527Z
LAST-MODIFIED:20250919T202840Z
UID:22716-1757613600-1757617200@creativethoughtcenter.org
SUMMARY:SOM- "Braiding Sweet Grass" by Robin Wall Kimmerer - Thurs 6pm
DESCRIPTION:Starting June 19th \n\n\n\n\n\nIn Braiding Sweetgrass\, Robin Wall Kimmerer draws upon Indigenous wisdom and environmental science to explore humanity’s reciprocal relationship with nature. The author recounts sacred creation stories and rituals—such as the Skywoman Falling myth and the Haudenosaunee Thanksgiving Address—that center gratitude\, kinship\, and reciprocity as guiding principles for sustainability. \nKimmerer argues that the path forward lies in integrating traditional ecological knowledge with scientific methods. The practices of sustainable harvests\, listening to “plant languages\,” and heeding the Windigo myth’s warnings against overconsumption offer a pathway to restoring balance between humans and the natural world. \n\n\n\n\n\n\nThis group meets on Zoom from 6 – 7pm.\n\n\n\n\n\nCathy Riggsbee and Kathleen Wood will be heading up the SOM discussion group. \nContact Cathy at 828-550-3812 for more information. \n 
URL:https://creativethoughtcenter.org/calendar/som-braiding-sweet-grass-by-robin-wall-kimmerer-thurs-6pm-11/
LOCATION:Creative Thought Center\, 449-D Pigeon Street\, Waynesville\, Haywood\, 28786\, United States
CATEGORIES:Discussion Group
ORGANIZER;CN="Creative Thought Center":MAILTO:info@creativethoughtcenter.org
END:VEVENT
BEGIN:VEVENT
DTSTART;TZID=America/New_York:20250918T180000
DTEND;TZID=America/New_York:20250918T190000
DTSTAMP:20260421T154132
CREATED:20250722T170626Z
LAST-MODIFIED:20250919T203415Z
UID:22714-1758218400-1758222000@creativethoughtcenter.org
SUMMARY:SOM- "Braiding Sweet Grass" by Robin Wall Kimmerer - Thurs 6pm
DESCRIPTION:Starting June 19th \n\n\n\n\n\nIn Braiding Sweetgrass\, Robin Wall Kimmerer draws upon Indigenous wisdom and environmental science to explore humanity’s reciprocal relationship with nature. The author recounts sacred creation stories and rituals—such as the Skywoman Falling myth and the Haudenosaunee Thanksgiving Address—that center gratitude\, kinship\, and reciprocity as guiding principles for sustainability. \nKimmerer argues that the path forward lies in integrating traditional ecological knowledge with scientific methods. The practices of sustainable harvests\, listening to “plant languages\,” and heeding the Windigo myth’s warnings against overconsumption offer a pathway to restoring balance between humans and the natural world. \n\n\n\n\n\n\nThis group meets on Zoom from 6 – 7pm.\n\n\n\n\n\nCathy Riggsbee and Kathleen Wood will be heading up the SOM discussion group. \nContact Cathy at 828-550-3812 for more information. \n 
URL:https://creativethoughtcenter.org/calendar/som-braiding-sweet-grass-by-robin-wall-kimmerer-thurs-6pm-13/
LOCATION:Creative Thought Center\, 449-D Pigeon Street\, Waynesville\, Haywood\, 28786\, United States
CATEGORIES:Discussion Group
ORGANIZER;CN="Creative Thought Center":MAILTO:info@creativethoughtcenter.org
END:VEVENT
BEGIN:VEVENT
DTSTART;TZID=America/New_York:20250925T180000
DTEND;TZID=America/New_York:20250925T190000
DTSTAMP:20260421T154132
CREATED:20250722T170650Z
LAST-MODIFIED:20250919T204147Z
UID:22715-1758823200-1758826800@creativethoughtcenter.org
SUMMARY:SOM- "Braiding Sweet Grass" by Robin Wall Kimmerer - Thurs 6pm
DESCRIPTION:Starting June 19th \n\n\n\n\n\nIn Braiding Sweetgrass\, Robin Wall Kimmerer draws upon Indigenous wisdom and environmental science to explore humanity’s reciprocal relationship with nature. The author recounts sacred creation stories and rituals—such as the Skywoman Falling myth and the Haudenosaunee Thanksgiving Address—that center gratitude\, kinship\, and reciprocity as guiding principles for sustainability. \nKimmerer argues that the path forward lies in integrating traditional ecological knowledge with scientific methods. The practices of sustainable harvests\, listening to “plant languages\,” and heeding the Windigo myth’s warnings against overconsumption offer a pathway to restoring balance between humans and the natural world. \n\n\n\n\n\n\nThis group meets on Zoom from 6 – 7pm.\n\n\n\n\n\nCathy Riggsbee and Kathleen Wood will be heading up the SOM discussion group. \nContact Cathy at 828-550-3812 for more information. \n 
URL:https://creativethoughtcenter.org/calendar/som-braiding-sweet-grass-by-robin-wall-kimmerer-thurs-6pm-14/
LOCATION:Creative Thought Center\, 449-D Pigeon Street\, Waynesville\, Haywood\, 28786\, United States
CATEGORIES:Discussion Group
ORGANIZER;CN="Creative Thought Center":MAILTO:info@creativethoughtcenter.org
END:VEVENT
END:VCALENDAR