BEGIN:VCALENDAR
VERSION:2.0
PRODID:-//Creative Thought Center - ECPv6.15.20//NONSGML v1.0//EN
CALSCALE:GREGORIAN
METHOD:PUBLISH
X-ORIGINAL-URL:https://creativethoughtcenter.org
X-WR-CALDESC:Events for Creative Thought Center
REFRESH-INTERVAL;VALUE=DURATION:PT1H
X-Robots-Tag:noindex
X-PUBLISHED-TTL:PT1H
BEGIN:VTIMEZONE
TZID:America/New_York
BEGIN:DAYLIGHT
TZOFFSETFROM:-0500
TZOFFSETTO:-0400
TZNAME:EDT
DTSTART:20240310T070000
END:DAYLIGHT
BEGIN:STANDARD
TZOFFSETFROM:-0400
TZOFFSETTO:-0500
TZNAME:EST
DTSTART:20241103T060000
END:STANDARD
BEGIN:DAYLIGHT
TZOFFSETFROM:-0500
TZOFFSETTO:-0400
TZNAME:EDT
DTSTART:20250309T070000
END:DAYLIGHT
BEGIN:STANDARD
TZOFFSETFROM:-0400
TZOFFSETTO:-0500
TZNAME:EST
DTSTART:20251102T060000
END:STANDARD
BEGIN:DAYLIGHT
TZOFFSETFROM:-0500
TZOFFSETTO:-0400
TZNAME:EDT
DTSTART:20260308T070000
END:DAYLIGHT
BEGIN:STANDARD
TZOFFSETFROM:-0400
TZOFFSETTO:-0500
TZNAME:EST
DTSTART:20261101T060000
END:STANDARD
END:VTIMEZONE
BEGIN:VEVENT
DTSTART;TZID=America/New_York:20250807T180000
DTEND;TZID=America/New_York:20250807T190000
DTSTAMP:20260421T173231
CREATED:20250616T182031Z
LAST-MODIFIED:20250616T182031Z
UID:22566-1754589600-1754593200@creativethoughtcenter.org
SUMMARY:SOM- "Braiding Sweet Grass" by Robin Wall Kimmerer - Thurs 6pm
DESCRIPTION:Starting June 19th \n\n\n\n\n\nIn Braiding Sweetgrass\, Robin Wall Kimmerer draws upon Indigenous wisdom and environmental science to explore humanity’s reciprocal relationship with nature. The author recounts sacred creation stories and rituals—such as the Skywoman Falling myth and the Haudenosaunee Thanksgiving Address—that center gratitude\, kinship\, and reciprocity as guiding principles for sustainability. \nKimmerer argues that the path forward lies in integrating traditional ecological knowledge with scientific methods. The practices of sustainable harvests\, listening to “plant languages\,” and heeding the Windigo myth’s warnings against overconsumption offer a pathway to restoring balance between humans and the natural world. \n\n\n\n\n\n\nThis group meets on Zoom from 6 – 7pm.\n\n\n\n\n\nCathy Riggsbee and Kathleen Wood will be heading up the SOM discussion group. \nContact Cathy at 828-550-3812 for more information. \n 
URL:https://creativethoughtcenter.org/calendar/som-braiding-sweet-grass-by-robin-wall-kimmerer-thurs-6pm-7/
LOCATION:Creative Thought Center\, 449-D Pigeon Street\, Waynesville\, Haywood\, 28786\, United States
CATEGORIES:Discussion Group
END:VEVENT
BEGIN:VEVENT
DTSTART;TZID=America/New_York:20250814T180000
DTEND;TZID=America/New_York:20250814T190000
DTSTAMP:20260421T173231
CREATED:20250616T182144Z
LAST-MODIFIED:20250616T182144Z
UID:22581-1755194400-1755198000@creativethoughtcenter.org
SUMMARY:SOM- "Braiding Sweet Grass" by Robin Wall Kimmerer - Thurs 6pm
DESCRIPTION:Starting June 19th \n\n\n\n\n\nIn Braiding Sweetgrass\, Robin Wall Kimmerer draws upon Indigenous wisdom and environmental science to explore humanity’s reciprocal relationship with nature. The author recounts sacred creation stories and rituals—such as the Skywoman Falling myth and the Haudenosaunee Thanksgiving Address—that center gratitude\, kinship\, and reciprocity as guiding principles for sustainability. \nKimmerer argues that the path forward lies in integrating traditional ecological knowledge with scientific methods. The practices of sustainable harvests\, listening to “plant languages\,” and heeding the Windigo myth’s warnings against overconsumption offer a pathway to restoring balance between humans and the natural world. \n\n\n\n\n\n\nThis group meets on Zoom from 6 – 7pm.\n\n\n\n\n\nCathy Riggsbee and Kathleen Wood will be heading up the SOM discussion group. \nContact Cathy at 828-550-3812 for more information. \n 
URL:https://creativethoughtcenter.org/calendar/som-braiding-sweet-grass-by-robin-wall-kimmerer-thurs-6pm-8/
LOCATION:Creative Thought Center\, 449-D Pigeon Street\, Waynesville\, Haywood\, 28786\, United States
CATEGORIES:Discussion Group
END:VEVENT
BEGIN:VEVENT
DTSTART;TZID=America/New_York:20250821T180000
DTEND;TZID=America/New_York:20250821T190000
DTSTAMP:20260421T173231
CREATED:20250818T172651Z
LAST-MODIFIED:20250818T172651Z
UID:22821-1755799200-1755802800@creativethoughtcenter.org
SUMMARY:SOM- "Braiding Sweet Grass" by Robin Wall Kimmerer - Thurs 6pm
DESCRIPTION:Starting June 19th \n\n\n\n\n\nIn Braiding Sweetgrass\, Robin Wall Kimmerer draws upon Indigenous wisdom and environmental science to explore humanity’s reciprocal relationship with nature. The author recounts sacred creation stories and rituals—such as the Skywoman Falling myth and the Haudenosaunee Thanksgiving Address—that center gratitude\, kinship\, and reciprocity as guiding principles for sustainability. \nKimmerer argues that the path forward lies in integrating traditional ecological knowledge with scientific methods. The practices of sustainable harvests\, listening to “plant languages\,” and heeding the Windigo myth’s warnings against overconsumption offer a pathway to restoring balance between humans and the natural world. \n\n\n\n\n\n\nThis group meets on Zoom from 6 – 7pm.\n\n\n\n\n\nCathy Riggsbee and Kathleen Wood will be heading up the SOM discussion group. \nContact Cathy at 828-550-3812 for more information. \n 
URL:https://creativethoughtcenter.org/calendar/som-braiding-sweet-grass-by-robin-wall-kimmerer-thurs-6pm-12/
LOCATION:Creative Thought Center\, 449-D Pigeon Street\, Waynesville\, Haywood\, 28786\, United States
CATEGORIES:Discussion Group
END:VEVENT
BEGIN:VEVENT
DTSTART;TZID=America/New_York:20250828T180000
DTEND;TZID=America/New_York:20250828T190000
DTSTAMP:20260421T173231
CREATED:20250616T182220Z
LAST-MODIFIED:20250708T163952Z
UID:22580-1756404000-1756407600@creativethoughtcenter.org
SUMMARY:SOM- "Braiding Sweet Grass" by Robin Wall Kimmerer - Thurs 6pm
DESCRIPTION:Starting June 19th \n\n\n\n\n\nIn Braiding Sweetgrass\, Robin Wall Kimmerer draws upon Indigenous wisdom and environmental science to explore humanity’s reciprocal relationship with nature. The author recounts sacred creation stories and rituals—such as the Skywoman Falling myth and the Haudenosaunee Thanksgiving Address—that center gratitude\, kinship\, and reciprocity as guiding principles for sustainability. \nKimmerer argues that the path forward lies in integrating traditional ecological knowledge with scientific methods. The practices of sustainable harvests\, listening to “plant languages\,” and heeding the Windigo myth’s warnings against overconsumption offer a pathway to restoring balance between humans and the natural world. \n\n\n\n\n\n\nThis group meets on Zoom from 6 – 7pm.\n\n\n\n\n\nCathy Riggsbee and Kathleen Wood will be heading up the SOM discussion group. \nContact Cathy at 828-550-3812 for more information. \n 
URL:https://creativethoughtcenter.org/calendar/som-braiding-sweet-grass-by-robin-wall-kimmerer-thurs-6pm-9/
LOCATION:Creative Thought Center\, 449-D Pigeon Street\, Waynesville\, Haywood\, 28786\, United States
CATEGORIES:Discussion Group
END:VEVENT
END:VCALENDAR