BEGIN:VCALENDAR
VERSION:2.0
PRODID:-//Creative Thought Center - ECPv6.15.20//NONSGML v1.0//EN
CALSCALE:GREGORIAN
METHOD:PUBLISH
X-ORIGINAL-URL:https://creativethoughtcenter.org
X-WR-CALDESC:Events for Creative Thought Center
REFRESH-INTERVAL;VALUE=DURATION:PT1H
X-Robots-Tag:noindex
X-PUBLISHED-TTL:PT1H
BEGIN:VTIMEZONE
TZID:America/New_York
BEGIN:DAYLIGHT
TZOFFSETFROM:-0500
TZOFFSETTO:-0400
TZNAME:EDT
DTSTART:20240310T070000
END:DAYLIGHT
BEGIN:STANDARD
TZOFFSETFROM:-0400
TZOFFSETTO:-0500
TZNAME:EST
DTSTART:20241103T060000
END:STANDARD
BEGIN:DAYLIGHT
TZOFFSETFROM:-0500
TZOFFSETTO:-0400
TZNAME:EDT
DTSTART:20250309T070000
END:DAYLIGHT
BEGIN:STANDARD
TZOFFSETFROM:-0400
TZOFFSETTO:-0500
TZNAME:EST
DTSTART:20251102T060000
END:STANDARD
BEGIN:DAYLIGHT
TZOFFSETFROM:-0500
TZOFFSETTO:-0400
TZNAME:EDT
DTSTART:20260308T070000
END:DAYLIGHT
BEGIN:STANDARD
TZOFFSETFROM:-0400
TZOFFSETTO:-0500
TZNAME:EST
DTSTART:20261101T060000
END:STANDARD
END:VTIMEZONE
BEGIN:VEVENT
DTSTART;TZID=America/New_York:20250703T180000
DTEND;TZID=America/New_York:20250703T190000
DTSTAMP:20260421T190911
CREATED:20250616T181750Z
LAST-MODIFIED:20250616T181750Z
UID:22569-1751565600-1751569200@creativethoughtcenter.org
SUMMARY:SOM- "Braiding Sweet Grass" by Robin Wall Kimmerer - Thurs 6pm
DESCRIPTION:Starting June 19th \n\n\n\n\n\nIn Braiding Sweetgrass\, Robin Wall Kimmerer draws upon Indigenous wisdom and environmental science to explore humanity’s reciprocal relationship with nature. The author recounts sacred creation stories and rituals—such as the Skywoman Falling myth and the Haudenosaunee Thanksgiving Address—that center gratitude\, kinship\, and reciprocity as guiding principles for sustainability. \nKimmerer argues that the path forward lies in integrating traditional ecological knowledge with scientific methods. The practices of sustainable harvests\, listening to “plant languages\,” and heeding the Windigo myth’s warnings against overconsumption offer a pathway to restoring balance between humans and the natural world. \n\n\n\n\n\n\nThis group meets on Zoom from 6 – 7pm.\n\n\n\n\n\nCathy Riggsbee and Kathleen Wood will be heading up the SOM discussion group. \nContact Cathy at 828-550-3812 for more information. \n 
URL:https://creativethoughtcenter.org/calendar/som-braiding-sweet-grass-by-robin-wall-kimmerer-thurs-6pm-2/
LOCATION:Creative Thought Center\, 449-D Pigeon Street\, Waynesville\, Haywood\, 28786\, United States
CATEGORIES:Discussion Group
END:VEVENT
BEGIN:VEVENT
DTSTART;TZID=America/New_York:20250710T180000
DTEND;TZID=America/New_York:20250710T190000
DTSTAMP:20260421T190911
CREATED:20250616T181819Z
LAST-MODIFIED:20250616T181819Z
UID:22570-1752170400-1752174000@creativethoughtcenter.org
SUMMARY:SOM- "Braiding Sweet Grass" by Robin Wall Kimmerer - Thurs 6pm
DESCRIPTION:Starting June 19th \n\n\n\n\n\nIn Braiding Sweetgrass\, Robin Wall Kimmerer draws upon Indigenous wisdom and environmental science to explore humanity’s reciprocal relationship with nature. The author recounts sacred creation stories and rituals—such as the Skywoman Falling myth and the Haudenosaunee Thanksgiving Address—that center gratitude\, kinship\, and reciprocity as guiding principles for sustainability. \nKimmerer argues that the path forward lies in integrating traditional ecological knowledge with scientific methods. The practices of sustainable harvests\, listening to “plant languages\,” and heeding the Windigo myth’s warnings against overconsumption offer a pathway to restoring balance between humans and the natural world. \n\n\n\n\n\n\nThis group meets on Zoom from 6 – 7pm.\n\n\n\n\n\nCathy Riggsbee and Kathleen Wood will be heading up the SOM discussion group. \nContact Cathy at 828-550-3812 for more information. \n 
URL:https://creativethoughtcenter.org/calendar/som-braiding-sweet-grass-by-robin-wall-kimmerer-thurs-6pm-3/
LOCATION:Creative Thought Center\, 449-D Pigeon Street\, Waynesville\, Haywood\, 28786\, United States
CATEGORIES:Discussion Group
END:VEVENT
BEGIN:VEVENT
DTSTART;TZID=America/New_York:20250717T180000
DTEND;TZID=America/New_York:20250717T190000
DTSTAMP:20260421T190911
CREATED:20250616T181905Z
LAST-MODIFIED:20250616T181905Z
UID:22568-1752775200-1752778800@creativethoughtcenter.org
SUMMARY:SOM- "Braiding Sweet Grass" by Robin Wall Kimmerer - Thurs 6pm
DESCRIPTION:Starting June 19th \n\n\n\n\n\nIn Braiding Sweetgrass\, Robin Wall Kimmerer draws upon Indigenous wisdom and environmental science to explore humanity’s reciprocal relationship with nature. The author recounts sacred creation stories and rituals—such as the Skywoman Falling myth and the Haudenosaunee Thanksgiving Address—that center gratitude\, kinship\, and reciprocity as guiding principles for sustainability. \nKimmerer argues that the path forward lies in integrating traditional ecological knowledge with scientific methods. The practices of sustainable harvests\, listening to “plant languages\,” and heeding the Windigo myth’s warnings against overconsumption offer a pathway to restoring balance between humans and the natural world. \n\n\n\n\n\n\nThis group meets on Zoom from 6 – 7pm.\n\n\n\n\n\nCathy Riggsbee and Kathleen Wood will be heading up the SOM discussion group. \nContact Cathy at 828-550-3812 for more information. \n 
URL:https://creativethoughtcenter.org/calendar/som-braiding-sweet-grass-by-robin-wall-kimmerer-thurs-6pm-4/
LOCATION:Creative Thought Center\, 449-D Pigeon Street\, Waynesville\, Haywood\, 28786\, United States
CATEGORIES:Discussion Group
END:VEVENT
BEGIN:VEVENT
DTSTART;TZID=America/New_York:20250724T180000
DTEND;TZID=America/New_York:20250724T190000
DTSTAMP:20260421T190911
CREATED:20250616T181928Z
LAST-MODIFIED:20250616T181928Z
UID:22567-1753380000-1753383600@creativethoughtcenter.org
SUMMARY:SOM- "Braiding Sweet Grass" by Robin Wall Kimmerer - Thurs 6pm
DESCRIPTION:Starting June 19th \n\n\n\n\n\nIn Braiding Sweetgrass\, Robin Wall Kimmerer draws upon Indigenous wisdom and environmental science to explore humanity’s reciprocal relationship with nature. The author recounts sacred creation stories and rituals—such as the Skywoman Falling myth and the Haudenosaunee Thanksgiving Address—that center gratitude\, kinship\, and reciprocity as guiding principles for sustainability. \nKimmerer argues that the path forward lies in integrating traditional ecological knowledge with scientific methods. The practices of sustainable harvests\, listening to “plant languages\,” and heeding the Windigo myth’s warnings against overconsumption offer a pathway to restoring balance between humans and the natural world. \n\n\n\n\n\n\nThis group meets on Zoom from 6 – 7pm.\n\n\n\n\n\nCathy Riggsbee and Kathleen Wood will be heading up the SOM discussion group. \nContact Cathy at 828-550-3812 for more information. \n 
URL:https://creativethoughtcenter.org/calendar/som-braiding-sweet-grass-by-robin-wall-kimmerer-thurs-6pm-5/
LOCATION:Creative Thought Center\, 449-D Pigeon Street\, Waynesville\, Haywood\, 28786\, United States
CATEGORIES:Discussion Group
END:VEVENT
BEGIN:VEVENT
DTSTART;TZID=America/New_York:20250731T180000
DTEND;TZID=America/New_York:20250731T190000
DTSTAMP:20260421T190911
CREATED:20250616T181956Z
LAST-MODIFIED:20250616T181956Z
UID:22565-1753984800-1753988400@creativethoughtcenter.org
SUMMARY:SOM- "Braiding Sweet Grass" by Robin Wall Kimmerer - Thurs 6pm
DESCRIPTION:Starting June 19th \n\n\n\n\n\nIn Braiding Sweetgrass\, Robin Wall Kimmerer draws upon Indigenous wisdom and environmental science to explore humanity’s reciprocal relationship with nature. The author recounts sacred creation stories and rituals—such as the Skywoman Falling myth and the Haudenosaunee Thanksgiving Address—that center gratitude\, kinship\, and reciprocity as guiding principles for sustainability. \nKimmerer argues that the path forward lies in integrating traditional ecological knowledge with scientific methods. The practices of sustainable harvests\, listening to “plant languages\,” and heeding the Windigo myth’s warnings against overconsumption offer a pathway to restoring balance between humans and the natural world. \n\n\n\n\n\n\nThis group meets on Zoom from 6 – 7pm.\n\n\n\n\n\nCathy Riggsbee and Kathleen Wood will be heading up the SOM discussion group. \nContact Cathy at 828-550-3812 for more information. \n 
URL:https://creativethoughtcenter.org/calendar/som-braiding-sweet-grass-by-robin-wall-kimmerer-thurs-6pm-6/
LOCATION:Creative Thought Center\, 449-D Pigeon Street\, Waynesville\, Haywood\, 28786\, United States
CATEGORIES:Discussion Group
END:VEVENT
END:VCALENDAR