BEGIN:VCALENDAR
VERSION:2.0
PRODID:-//Creative Thought Center - ECPv6.15.20//NONSGML v1.0//EN
CALSCALE:GREGORIAN
METHOD:PUBLISH
X-ORIGINAL-URL:https://creativethoughtcenter.org
X-WR-CALDESC:Events for Creative Thought Center
REFRESH-INTERVAL;VALUE=DURATION:PT1H
X-Robots-Tag:noindex
X-PUBLISHED-TTL:PT1H
BEGIN:VTIMEZONE
TZID:America/New_York
BEGIN:DAYLIGHT
TZOFFSETFROM:-0500
TZOFFSETTO:-0400
TZNAME:EDT
DTSTART:20240310T070000
END:DAYLIGHT
BEGIN:STANDARD
TZOFFSETFROM:-0400
TZOFFSETTO:-0500
TZNAME:EST
DTSTART:20241103T060000
END:STANDARD
BEGIN:DAYLIGHT
TZOFFSETFROM:-0500
TZOFFSETTO:-0400
TZNAME:EDT
DTSTART:20250309T070000
END:DAYLIGHT
BEGIN:STANDARD
TZOFFSETFROM:-0400
TZOFFSETTO:-0500
TZNAME:EST
DTSTART:20251102T060000
END:STANDARD
BEGIN:DAYLIGHT
TZOFFSETFROM:-0500
TZOFFSETTO:-0400
TZNAME:EDT
DTSTART:20260308T070000
END:DAYLIGHT
BEGIN:STANDARD
TZOFFSETFROM:-0400
TZOFFSETTO:-0500
TZNAME:EST
DTSTART:20261101T060000
END:STANDARD
END:VTIMEZONE
BEGIN:VEVENT
DTSTART;TZID=America/New_York:20250605T180000
DTEND;TZID=America/New_York:20250605T190000
DTSTAMP:20260421T205214
CREATED:20250513T175707Z
LAST-MODIFIED:20250513T175707Z
UID:22399-1749146400-1749150000@creativethoughtcenter.org
SUMMARY:SOM- "An Introduction to Islam" by David Waines
DESCRIPTION:Starting April 24th \n\n\n\n\nThis revised and updated second edition features a new section tackling the issues arising from Islam’s changing role in the volatile world order of the new millennium. Appearing at the end of a book which explores the ideas and traditions of Islam in depth\, this new section offers thought-provoking reflections on the role of religion in the current conflicts. First Edition Hb (1995): 0-521-41880-1 First Edition Pb (1995): 0-521-42929-3 This description may be from another edition of this product.\n\n\n\n\n\n\n\n\nThis group meets on Zoom from 6 – 7pm.\n\n\n\n\n\nCathy Riggsbee and Kathleen Wood will be heading up the SOM discussion group. \nContact Cathy at 828-550-3812 for more information. \n 
URL:https://creativethoughtcenter.org/calendar/som-an-introduction-to-islam-by-david-waines-6/
LOCATION:Creative Thought Center\, 449-D Pigeon Street\, Waynesville\, Haywood\, 28786\, United States
CATEGORIES:Discussion Group
END:VEVENT
BEGIN:VEVENT
DTSTART;TZID=America/New_York:20250612T180000
DTEND;TZID=America/New_York:20250612T190000
DTSTAMP:20260421T205214
CREATED:20250513T175746Z
LAST-MODIFIED:20250513T175746Z
UID:22397-1749751200-1749754800@creativethoughtcenter.org
SUMMARY:SOM- "An Introduction to Islam" by David Waines
DESCRIPTION:Starting April 24th \n\n\n\n\nThis revised and updated second edition features a new section tackling the issues arising from Islam’s changing role in the volatile world order of the new millennium. Appearing at the end of a book which explores the ideas and traditions of Islam in depth\, this new section offers thought-provoking reflections on the role of religion in the current conflicts. First Edition Hb (1995): 0-521-41880-1 First Edition Pb (1995): 0-521-42929-3 This description may be from another edition of this product.\n\n\n\n\n\n\n\n\nThis group meets on Zoom from 6 – 7pm.\n\n\n\n\n\nCathy Riggsbee and Kathleen Wood will be heading up the SOM discussion group. \nContact Cathy at 828-550-3812 for more information. \n 
URL:https://creativethoughtcenter.org/calendar/som-an-introduction-to-islam-by-david-waines-7/
LOCATION:Creative Thought Center\, 449-D Pigeon Street\, Waynesville\, Haywood\, 28786\, United States
CATEGORIES:Discussion Group
END:VEVENT
BEGIN:VEVENT
DTSTART;TZID=America/New_York:20250619T180000
DTEND;TZID=America/New_York:20250619T190000
DTSTAMP:20260421T205214
CREATED:20250616T180442Z
LAST-MODIFIED:20250616T181614Z
UID:22543-1750356000-1750359600@creativethoughtcenter.org
SUMMARY:SOM- "Braiding Sweet Grass" by Robin Wall Kimmerer - Thurs 6pm
DESCRIPTION:Starting June 19th \n\n\n\n\n\nIn Braiding Sweetgrass\, Robin Wall Kimmerer draws upon Indigenous wisdom and environmental science to explore humanity’s reciprocal relationship with nature. The author recounts sacred creation stories and rituals—such as the Skywoman Falling myth and the Haudenosaunee Thanksgiving Address—that center gratitude\, kinship\, and reciprocity as guiding principles for sustainability. \nKimmerer argues that the path forward lies in integrating traditional ecological knowledge with scientific methods. The practices of sustainable harvests\, listening to “plant languages\,” and heeding the Windigo myth’s warnings against overconsumption offer a pathway to restoring balance between humans and the natural world. \n\n\n\n\n\n\nThis group meets on Zoom from 6 – 7pm.\n\n\n\n\n\nCathy Riggsbee and Kathleen Wood will be heading up the SOM discussion group. \nContact Cathy at 828-550-3812 for more information. \n 
URL:https://creativethoughtcenter.org/calendar/som-leaving-sweet-grass-by-robin-wall-kimmerer-thurs-6pm/
LOCATION:Creative Thought Center\, 449-D Pigeon Street\, Waynesville\, Haywood\, 28786\, United States
CATEGORIES:Discussion Group
END:VEVENT
BEGIN:VEVENT
DTSTART;TZID=America/New_York:20250626T180000
DTEND;TZID=America/New_York:20250626T190000
DTSTAMP:20260421T205214
CREATED:20250616T181710Z
LAST-MODIFIED:20250616T181710Z
UID:22571-1750960800-1750964400@creativethoughtcenter.org
SUMMARY:SOM- "Braiding Sweet Grass" by Robin Wall Kimmerer - Thurs 6pm
DESCRIPTION:Starting June 19th \n\n\n\n\n\nIn Braiding Sweetgrass\, Robin Wall Kimmerer draws upon Indigenous wisdom and environmental science to explore humanity’s reciprocal relationship with nature. The author recounts sacred creation stories and rituals—such as the Skywoman Falling myth and the Haudenosaunee Thanksgiving Address—that center gratitude\, kinship\, and reciprocity as guiding principles for sustainability. \nKimmerer argues that the path forward lies in integrating traditional ecological knowledge with scientific methods. The practices of sustainable harvests\, listening to “plant languages\,” and heeding the Windigo myth’s warnings against overconsumption offer a pathway to restoring balance between humans and the natural world. \n\n\n\n\n\n\nThis group meets on Zoom from 6 – 7pm.\n\n\n\n\n\nCathy Riggsbee and Kathleen Wood will be heading up the SOM discussion group. \nContact Cathy at 828-550-3812 for more information. \n 
URL:https://creativethoughtcenter.org/calendar/som-braiding-sweet-grass-by-robin-wall-kimmerer-thurs-6pm/
LOCATION:Creative Thought Center\, 449-D Pigeon Street\, Waynesville\, Haywood\, 28786\, United States
CATEGORIES:Discussion Group
END:VEVENT
END:VCALENDAR