BEGIN:VCALENDAR
VERSION:2.0
PRODID:-//Creative Thought Center - ECPv6.15.20//NONSGML v1.0//EN
CALSCALE:GREGORIAN
METHOD:PUBLISH
X-WR-CALNAME:Creative Thought Center
X-ORIGINAL-URL:https://creativethoughtcenter.org
X-WR-CALDESC:Events for Creative Thought Center
REFRESH-INTERVAL;VALUE=DURATION:PT1H
X-Robots-Tag:noindex
X-PUBLISHED-TTL:PT1H
BEGIN:VTIMEZONE
TZID:America/New_York
BEGIN:DAYLIGHT
TZOFFSETFROM:-0500
TZOFFSETTO:-0400
TZNAME:EDT
DTSTART:20240310T070000
END:DAYLIGHT
BEGIN:STANDARD
TZOFFSETFROM:-0400
TZOFFSETTO:-0500
TZNAME:EST
DTSTART:20241103T060000
END:STANDARD
BEGIN:DAYLIGHT
TZOFFSETFROM:-0500
TZOFFSETTO:-0400
TZNAME:EDT
DTSTART:20250309T070000
END:DAYLIGHT
BEGIN:STANDARD
TZOFFSETFROM:-0400
TZOFFSETTO:-0500
TZNAME:EST
DTSTART:20251102T060000
END:STANDARD
BEGIN:DAYLIGHT
TZOFFSETFROM:-0500
TZOFFSETTO:-0400
TZNAME:EDT
DTSTART:20260308T070000
END:DAYLIGHT
BEGIN:STANDARD
TZOFFSETFROM:-0400
TZOFFSETTO:-0500
TZNAME:EST
DTSTART:20261101T060000
END:STANDARD
END:VTIMEZONE
BEGIN:VEVENT
DTSTART;TZID=America/New_York:20250501T180000
DTEND;TZID=America/New_York:20250501T190000
DTSTAMP:20260421T223745
CREATED:20250414T172333Z
LAST-MODIFIED:20250414T172333Z
UID:22292-1746122400-1746126000@creativethoughtcenter.org
SUMMARY:SOM- "An Introduction to Islam" by David Waines
DESCRIPTION:Starting April 24th \n\n\n\n\nThis revised and updated second edition features a new section tackling the issues arising from Islam’s changing role in the volatile world order of the new millennium. Appearing at the end of a book which explores the ideas and traditions of Islam in depth\, this new section offers thought-provoking reflections on the role of religion in the current conflicts. First Edition Hb (1995): 0-521-41880-1 First Edition Pb (1995): 0-521-42929-3 This description may be from another edition of this product.\n\n\n\n\n\n\n\n\nThis group meets on Zoom from 6 – 7pm.\n\n\n\n\n\nCathy Riggsbee and Kathleen Wood will be heading up the SOM discussion group. \nContact Cathy at 828-550-3812 for more information. \n 
URL:https://creativethoughtcenter.org/calendar/som-an-introduction-to-islam-by-david-waines/
LOCATION:Creative Thought Center\, 449-D Pigeon Street\, Waynesville\, Haywood\, 28786\, United States
CATEGORIES:Discussion Group
END:VEVENT
BEGIN:VEVENT
DTSTART;TZID=America/New_York:20250508T180000
DTEND;TZID=America/New_York:20250508T190000
DTSTAMP:20260421T223745
CREATED:20250414T172400Z
LAST-MODIFIED:20250414T172400Z
UID:22290-1746727200-1746730800@creativethoughtcenter.org
SUMMARY:SOM- "An Introduction to Islam" by David Waines
DESCRIPTION:Starting April 24th \n\n\n\n\nThis revised and updated second edition features a new section tackling the issues arising from Islam’s changing role in the volatile world order of the new millennium. Appearing at the end of a book which explores the ideas and traditions of Islam in depth\, this new section offers thought-provoking reflections on the role of religion in the current conflicts. First Edition Hb (1995): 0-521-41880-1 First Edition Pb (1995): 0-521-42929-3 This description may be from another edition of this product.\n\n\n\n\n\n\n\n\nThis group meets on Zoom from 6 – 7pm.\n\n\n\n\n\nCathy Riggsbee and Kathleen Wood will be heading up the SOM discussion group. \nContact Cathy at 828-550-3812 for more information. \n 
URL:https://creativethoughtcenter.org/calendar/som-an-introduction-to-islam-by-david-waines-2/
LOCATION:Creative Thought Center\, 449-D Pigeon Street\, Waynesville\, Haywood\, 28786\, United States
CATEGORIES:Discussion Group
END:VEVENT
BEGIN:VEVENT
DTSTART;TZID=America/New_York:20250515T180000
DTEND;TZID=America/New_York:20250515T190000
DTSTAMP:20260421T223745
CREATED:20250414T172439Z
LAST-MODIFIED:20250414T172439Z
UID:22291-1747332000-1747335600@creativethoughtcenter.org
SUMMARY:SOM- "An Introduction to Islam" by David Waines
DESCRIPTION:Starting April 24th \n\n\n\n\nThis revised and updated second edition features a new section tackling the issues arising from Islam’s changing role in the volatile world order of the new millennium. Appearing at the end of a book which explores the ideas and traditions of Islam in depth\, this new section offers thought-provoking reflections on the role of religion in the current conflicts. First Edition Hb (1995): 0-521-41880-1 First Edition Pb (1995): 0-521-42929-3 This description may be from another edition of this product.\n\n\n\n\n\n\n\n\nThis group meets on Zoom from 6 – 7pm.\n\n\n\n\n\nCathy Riggsbee and Kathleen Wood will be heading up the SOM discussion group. \nContact Cathy at 828-550-3812 for more information. \n 
URL:https://creativethoughtcenter.org/calendar/som-an-introduction-to-islam-by-david-waines-3/
LOCATION:Creative Thought Center\, 449-D Pigeon Street\, Waynesville\, Haywood\, 28786\, United States
CATEGORIES:Discussion Group
END:VEVENT
BEGIN:VEVENT
DTSTART;TZID=America/New_York:20250522T180000
DTEND;TZID=America/New_York:20250522T190000
DTSTAMP:20260421T223745
CREATED:20250414T172518Z
LAST-MODIFIED:20250414T172518Z
UID:22297-1747936800-1747940400@creativethoughtcenter.org
SUMMARY:SOM- "An Introduction to Islam" by David Waines
DESCRIPTION:Starting April 24th \n\n\n\n\nThis revised and updated second edition features a new section tackling the issues arising from Islam’s changing role in the volatile world order of the new millennium. Appearing at the end of a book which explores the ideas and traditions of Islam in depth\, this new section offers thought-provoking reflections on the role of religion in the current conflicts. First Edition Hb (1995): 0-521-41880-1 First Edition Pb (1995): 0-521-42929-3 This description may be from another edition of this product.\n\n\n\n\n\n\n\n\nThis group meets on Zoom from 6 – 7pm.\n\n\n\n\n\nCathy Riggsbee and Kathleen Wood will be heading up the SOM discussion group. \nContact Cathy at 828-550-3812 for more information. \n 
URL:https://creativethoughtcenter.org/calendar/som-an-introduction-to-islam-by-david-waines-4/
LOCATION:Creative Thought Center\, 449-D Pigeon Street\, Waynesville\, Haywood\, 28786\, United States
CATEGORIES:Discussion Group
END:VEVENT
BEGIN:VEVENT
DTSTART;TZID=America/New_York:20250529T180000
DTEND;TZID=America/New_York:20250529T190000
DTSTAMP:20260421T223745
CREATED:20250414T172557Z
LAST-MODIFIED:20250414T172557Z
UID:22296-1748541600-1748545200@creativethoughtcenter.org
SUMMARY:SOM- "An Introduction to Islam" by David Waines
DESCRIPTION:Starting April 24th \n\n\n\n\nThis revised and updated second edition features a new section tackling the issues arising from Islam’s changing role in the volatile world order of the new millennium. Appearing at the end of a book which explores the ideas and traditions of Islam in depth\, this new section offers thought-provoking reflections on the role of religion in the current conflicts. First Edition Hb (1995): 0-521-41880-1 First Edition Pb (1995): 0-521-42929-3 This description may be from another edition of this product.\n\n\n\n\n\n\n\n\nThis group meets on Zoom from 6 – 7pm.\n\n\n\n\n\nCathy Riggsbee and Kathleen Wood will be heading up the SOM discussion group. \nContact Cathy at 828-550-3812 for more information. \n 
URL:https://creativethoughtcenter.org/calendar/som-an-introduction-to-islam-by-david-waines-5/
LOCATION:Creative Thought Center\, 449-D Pigeon Street\, Waynesville\, Haywood\, 28786\, United States
CATEGORIES:Discussion Group
END:VEVENT
END:VCALENDAR