BEGIN:VCALENDAR
VERSION:2.0
PRODID:-//Creative Thought Center - ECPv6.15.20//NONSGML v1.0//EN
CALSCALE:GREGORIAN
METHOD:PUBLISH
X-WR-CALNAME:Creative Thought Center
X-ORIGINAL-URL:https://creativethoughtcenter.org
X-WR-CALDESC:Events for Creative Thought Center
REFRESH-INTERVAL;VALUE=DURATION:PT1H
X-Robots-Tag:noindex
X-PUBLISHED-TTL:PT1H
BEGIN:VTIMEZONE
TZID:America/New_York
BEGIN:DAYLIGHT
TZOFFSETFROM:-0500
TZOFFSETTO:-0400
TZNAME:EDT
DTSTART:20240310T070000
END:DAYLIGHT
BEGIN:STANDARD
TZOFFSETFROM:-0400
TZOFFSETTO:-0500
TZNAME:EST
DTSTART:20241103T060000
END:STANDARD
BEGIN:DAYLIGHT
TZOFFSETFROM:-0500
TZOFFSETTO:-0400
TZNAME:EDT
DTSTART:20250309T070000
END:DAYLIGHT
BEGIN:STANDARD
TZOFFSETFROM:-0400
TZOFFSETTO:-0500
TZNAME:EST
DTSTART:20251102T060000
END:STANDARD
BEGIN:DAYLIGHT
TZOFFSETFROM:-0500
TZOFFSETTO:-0400
TZNAME:EDT
DTSTART:20260308T070000
END:DAYLIGHT
BEGIN:STANDARD
TZOFFSETFROM:-0400
TZOFFSETTO:-0500
TZNAME:EST
DTSTART:20261101T060000
END:STANDARD
END:VTIMEZONE
BEGIN:VEVENT
DTSTART;TZID=America/New_York:20250807T140000
DTEND;TZID=America/New_York:20250807T153000
DTSTAMP:20260423T162656
CREATED:20250708T163829Z
LAST-MODIFIED:20250708T163829Z
UID:22474-1754575200-1754580600@creativethoughtcenter.org
SUMMARY:A Course In Miracles  2:00 pm - 3:30 pm
DESCRIPTION:“A Course in Miracles is a modern-day program for healing the Mind\, removing all judgment\, learning to trust the Higher Self/Holy Spirit/Intuition\, and coming to consistent Peace of Mind.”\n–David Hoffmeister \nA Course in Miracles (ACIM) is a self-study program with a unique approach\, designed to bring a consistent state of happiness and peace to the student through the application of its principles. Its uncompromising approach is very effective for those looking to heal abandonment\, victimhood\, and any other seeming lifelong issues. \nContact Stan Jones 828-329-1641
URL:https://creativethoughtcenter.org/calendar/a-course-in-miracles-200-pm-330-pm-20/
LOCATION:Creative Thought Center\, 449-D Pigeon Street\, Waynesville\, Haywood\, 28786\, United States
CATEGORIES:Classes
ORGANIZER;CN="Stan Jones":MAILTO:waynesvillectc@gmail.com
END:VEVENT
BEGIN:VEVENT
DTSTART;TZID=America/New_York:20250814T140000
DTEND;TZID=America/New_York:20250814T153000
DTSTAMP:20260423T162656
CREATED:20250818T183335Z
LAST-MODIFIED:20250818T183335Z
UID:22831-1755180000-1755185400@creativethoughtcenter.org
SUMMARY:A Course In Miracles  2:00 pm - 3:30 pm
DESCRIPTION:“A Course in Miracles is a modern-day program for healing the Mind\, removing all judgment\, learning to trust the Higher Self/Holy Spirit/Intuition\, and coming to consistent Peace of Mind.”\n–David Hoffmeister \nA Course in Miracles (ACIM) is a self-study program with a unique approach\, designed to bring a consistent state of happiness and peace to the student through the application of its principles. Its uncompromising approach is very effective for those looking to heal abandonment\, victimhood\, and any other seeming lifelong issues. \nContact Stan Jones 828-329-1641
URL:https://creativethoughtcenter.org/calendar/a-course-in-miracles-200-pm-330-pm-28/
LOCATION:Creative Thought Center\, 449-D Pigeon Street\, Waynesville\, Haywood\, 28786\, United States
CATEGORIES:Classes
ORGANIZER;CN="Stan Jones":MAILTO:waynesvillectc@gmail.com
END:VEVENT
BEGIN:VEVENT
DTSTART;TZID=America/New_York:20250821T140000
DTEND;TZID=America/New_York:20250821T153000
DTSTAMP:20260423T162656
CREATED:20250708T163854Z
LAST-MODIFIED:20250708T163854Z
UID:22473-1755784800-1755790200@creativethoughtcenter.org
SUMMARY:A Course In Miracles  2:00 pm - 3:30 pm
DESCRIPTION:“A Course in Miracles is a modern-day program for healing the Mind\, removing all judgment\, learning to trust the Higher Self/Holy Spirit/Intuition\, and coming to consistent Peace of Mind.”\n–David Hoffmeister \nA Course in Miracles (ACIM) is a self-study program with a unique approach\, designed to bring a consistent state of happiness and peace to the student through the application of its principles. Its uncompromising approach is very effective for those looking to heal abandonment\, victimhood\, and any other seeming lifelong issues. \nContact Stan Jones 828-329-1641
URL:https://creativethoughtcenter.org/calendar/a-course-in-miracles-200-pm-330-pm-21/
LOCATION:Creative Thought Center\, 449-D Pigeon Street\, Waynesville\, Haywood\, 28786\, United States
CATEGORIES:Classes
ORGANIZER;CN="Stan Jones":MAILTO:waynesvillectc@gmail.com
END:VEVENT
BEGIN:VEVENT
DTSTART;TZID=America/New_York:20250828T140000
DTEND;TZID=America/New_York:20250828T153000
DTSTAMP:20260423T162656
CREATED:20250708T163922Z
LAST-MODIFIED:20250708T163922Z
UID:22471-1756389600-1756395000@creativethoughtcenter.org
SUMMARY:A Course In Miracles  2:00 pm - 3:30 pm
DESCRIPTION:“A Course in Miracles is a modern-day program for healing the Mind\, removing all judgment\, learning to trust the Higher Self/Holy Spirit/Intuition\, and coming to consistent Peace of Mind.”\n–David Hoffmeister \nA Course in Miracles (ACIM) is a self-study program with a unique approach\, designed to bring a consistent state of happiness and peace to the student through the application of its principles. Its uncompromising approach is very effective for those looking to heal abandonment\, victimhood\, and any other seeming lifelong issues. \nContact Stan Jones 828-329-1641
URL:https://creativethoughtcenter.org/calendar/a-course-in-miracles-200-pm-330-pm-22/
LOCATION:Creative Thought Center\, 449-D Pigeon Street\, Waynesville\, Haywood\, 28786\, United States
CATEGORIES:Classes
ORGANIZER;CN="Stan Jones":MAILTO:waynesvillectc@gmail.com
END:VEVENT
END:VCALENDAR