BEGIN:VCALENDAR
VERSION:2.0
PRODID:-//Creative Thought Center - ECPv6.15.20//NONSGML v1.0//EN
CALSCALE:GREGORIAN
METHOD:PUBLISH
X-WR-CALNAME:Creative Thought Center
X-ORIGINAL-URL:https://creativethoughtcenter.org
X-WR-CALDESC:Events for Creative Thought Center
REFRESH-INTERVAL;VALUE=DURATION:PT1H
X-Robots-Tag:noindex
X-PUBLISHED-TTL:PT1H
BEGIN:VTIMEZONE
TZID:America/New_York
BEGIN:DAYLIGHT
TZOFFSETFROM:-0500
TZOFFSETTO:-0400
TZNAME:EDT
DTSTART:20250309T070000
END:DAYLIGHT
BEGIN:STANDARD
TZOFFSETFROM:-0400
TZOFFSETTO:-0500
TZNAME:EST
DTSTART:20251102T060000
END:STANDARD
BEGIN:DAYLIGHT
TZOFFSETFROM:-0500
TZOFFSETTO:-0400
TZNAME:EDT
DTSTART:20260308T070000
END:DAYLIGHT
BEGIN:STANDARD
TZOFFSETFROM:-0400
TZOFFSETTO:-0500
TZNAME:EST
DTSTART:20261101T060000
END:STANDARD
BEGIN:DAYLIGHT
TZOFFSETFROM:-0500
TZOFFSETTO:-0400
TZNAME:EDT
DTSTART:20270314T070000
END:DAYLIGHT
BEGIN:STANDARD
TZOFFSETFROM:-0400
TZOFFSETTO:-0500
TZNAME:EST
DTSTART:20271107T060000
END:STANDARD
END:VTIMEZONE
BEGIN:VEVENT
DTSTART;TZID=America/New_York:20260419T103000
DTEND;TZID=America/New_York:20260419T120000
DTSTAMP:20260421T045107
CREATED:20260310T155421Z
LAST-MODIFIED:20260310T155657Z
UID:23607-1776594600-1776600000@creativethoughtcenter.org
SUMMARY:Sunday Message - Donna Corso - "Reversing Fear"
DESCRIPTION:Spiritual Message: Donna Corso – “Reversing Fear”\nWe’ve all heard that the only thing to fear is fear itself. That is true now more than ever. Our opportunity is to turn fear around into a higher frequency. And we can do it! \nTrustee: Donella Davidson…\nGreeter: Evelyn Ries…\nTechnical: Randy Outland…\n10:30 am : Meditation: Kimi Webster…\nPractitioner: Kimi Webster...\nAffirmative Prayer Testimonial: open mic\n12:00-12:30 pm: Fellowship following Service \nDonna is an interfaith minister\, public speaker\, Reiki master\, hypnotherapist\, author and a Dream Builder life coach.  She has also been personal assistant to New York Times best-selling author Neale Donald Walsch for 24 years.   \n 
URL:https://creativethoughtcenter.org/calendar/sunday-message-donna-corso-reversing-fear/
LOCATION:Creative Thought Center\, 449-D Pigeon Street\, Waynesville\, Haywood\, 28786\, United States
CATEGORIES:Sunday Service
ORGANIZER;CN="Creative Thought Center":MAILTO:info@creativethoughtcenter.org
END:VEVENT
BEGIN:VEVENT
DTSTART;TZID=America/New_York:20260419T123000
DTEND;TZID=America/New_York:20260419T143000
DTSTAMP:20260421T045107
CREATED:20260317T155505Z
LAST-MODIFIED:20260317T155711Z
UID:23655-1776601800-1776609000@creativethoughtcenter.org
SUMMARY:CTC Board Meeting\, Sunday\, April 19th 12:30-2:30pm
DESCRIPTION:Bring your Lunch!!
URL:https://creativethoughtcenter.org/calendar/ctc-board-meeting-sunday-april-19th-1230-230pm/
LOCATION:Creative Thought Center\, 449-D Pigeon Street\, Waynesville\, Haywood\, 28786\, United States
CATEGORIES:Meetings
ORGANIZER;CN="Kim Walzer":MAILTO:waynesvillectc@gmail.com
END:VEVENT
END:VCALENDAR